BEGIN:VCALENDAR
VERSION:2.0
PRODID:-//AEGEE-Eindhoven - ECPv6.15.20//NONSGML v1.0//EN
CALSCALE:GREGORIAN
METHOD:PUBLISH
X-WR-CALNAME:AEGEE-Eindhoven
X-ORIGINAL-URL:https://aegee-eindhoven.nl
X-WR-CALDESC:Events for AEGEE-Eindhoven
REFRESH-INTERVAL;VALUE=DURATION:PT1H
X-Robots-Tag:noindex
X-PUBLISHED-TTL:PT1H
BEGIN:VTIMEZONE
TZID:Europe/Amsterdam
BEGIN:DAYLIGHT
TZOFFSETFROM:+0100
TZOFFSETTO:+0200
TZNAME:CEST
DTSTART:20250330T010000
END:DAYLIGHT
BEGIN:STANDARD
TZOFFSETFROM:+0200
TZOFFSETTO:+0100
TZNAME:CET
DTSTART:20251026T010000
END:STANDARD
BEGIN:DAYLIGHT
TZOFFSETFROM:+0100
TZOFFSETTO:+0200
TZNAME:CEST
DTSTART:20260329T010000
END:DAYLIGHT
BEGIN:STANDARD
TZOFFSETFROM:+0200
TZOFFSETTO:+0100
TZNAME:CET
DTSTART:20261025T010000
END:STANDARD
BEGIN:DAYLIGHT
TZOFFSETFROM:+0100
TZOFFSETTO:+0200
TZNAME:CEST
DTSTART:20270328T010000
END:DAYLIGHT
BEGIN:STANDARD
TZOFFSETFROM:+0200
TZOFFSETTO:+0100
TZNAME:CET
DTSTART:20271031T010000
END:STANDARD
END:VTIMEZONE
BEGIN:VEVENT
DTSTART;TZID=Europe/Amsterdam:20260426T170000
DTEND;TZID=Europe/Amsterdam:20260426T210000
DTSTAMP:20260426T041330
CREATED:20260409T141621Z
LAST-MODIFIED:20260424T135958Z
UID:10085-1777222800-1777237200@aegee-eindhoven.nl
SUMMARY:Mojito Night with AEGEE-Aachen
DESCRIPTION:AEGEE- Aachen is coming to Eindhoven during Kingsday! We will show them Eindhoven\, eat a nice dinner and celebrate the orange night with them. Before that we will have Mojito Night with them! \nPlease enable JavaScript in your browser to complete this form.Name *FirstLastPhone *EmailNOT REQUIRED - Only fill this in if you want a confirmationI want to have dinner:Dinner (Free) (Only for hosts)*Dinner (€3)*If you are hosting someone from AEGEE-Aachen you get to participate in the Mojito night for free. If you're interested in hosting and unlimted free mojitos\, reach out to Mark.		\n			participate friend? Restrictions\n			\n		\n		I want to participate in (host)*:Mojito night (Free)Mojito night non-alcoholic (Free)*If you are hosting someone from AEGEE-Aachen you get to participate in the Mojito night for free. If you're interested in hosting and unlimted free mojitos\, reach out to Mark.I want to participate in (member):Mojito night (€9)Mojito night non-alcoholic (€4)I want to participate in (non-member):Mojito night (€10)Mojito night non-alcoholic (€5)Are you bringing a friend?FirstLastIf you bring a friend\, you'll get a discount of €2! Fill in their name hereDietary RestrictionsGDPR Agreement for Personal information *I consent to having this website store my submitted information for the purpose of registering payments and measuring attendance and allow for this information to be stored for two weeks after payment has been received or\, when free\, for two weeks after the event has passed.GDPR Agreement for Media *I agree that any photos or videos made at this event may be used for promotional purposes by AEGEE-Eindhoven indefinitely.Payment Obligation *I acknowledge and agree that I am required to pay the above stated amount for this event\, even when I do not attend but do not cancel at least 12 hours before the event.Submit
URL:https://aegee-eindhoven.nl/activity/mojito-night-with-aegee-aachen/
LOCATION:Common Room\, MetaForum 0.090\, Eindhoven\, North Brabant\, Netherlands
CATEGORIES:Home Exchanges
ORGANIZER;CN="Local Activities Committee":MAILTO:localactivities@aegee-eindhoven.nl
END:VEVENT
BEGIN:VEVENT
DTSTART;TZID=Europe/Amsterdam:20260426T210000
DTEND;TZID=Europe/Amsterdam:20260426T233000
DTSTAMP:20260426T041330
CREATED:20260411T083407Z
LAST-MODIFIED:20260414T171401Z
UID:10103-1777237200-1777246200@aegee-eindhoven.nl
SUMMARY:Kingsnight with AEGEE-Aachen
DESCRIPTION:AEGEE- Aachen is coming to Eindhoven during Kingsday! We will show them Eindhoven\, eat a nice dinner and celebrate the orange night with them. \nPlease enable JavaScript in your browser to complete this form.Name *FirstLastPhone *EmailNOT REQUIRED - Only fill this in if you want a confirmationI am a: *MemberInteresteeI would like a buddy at this activity: *\n				\n					\n					\n				\n				\n				Yes\n			\n				\n					\n					\n				\n				\n				No\n			We understand that it might be scary to join a new association! Would like to get a 'buddy' assigned to you during this activity? They can help you meet more members and answer any questions you might have!I want to participate in: *KingsNight (Free)Dietary RestrictionsGDPR Agreement for Personal information *I consent to having this website store my submitted information for the purpose of registering payments and measuring attendance and allow for this information to be stored for two weeks after payment has been received or\, when free\, for two weeks after the event has passed.GDPR Agreement for Media *I agree that any photos or videos made at this event may be used for promotional purposes by AEGEE-Eindhoven indefinitely.		\n			a Phone in:\n			\n		\n		Payment Obligation *I acknowledge and agree that I am required to pay the above stated amount for this event\, even when I do not attend but do not cancel at least 12 hours before the event.Submit
URL:https://aegee-eindhoven.nl/activity/kingsnight-with-aegee-aachen/
CATEGORIES:Home Exchanges
END:VEVENT
END:VCALENDAR