BEGIN:VCALENDAR
VERSION:2.0
PRODID:-//AEGEE-Eindhoven - ECPv6.15.20//NONSGML v1.0//EN
CALSCALE:GREGORIAN
METHOD:PUBLISH
X-WR-CALNAME:AEGEE-Eindhoven
X-ORIGINAL-URL:https://aegee-eindhoven.nl
X-WR-CALDESC:Events for AEGEE-Eindhoven
REFRESH-INTERVAL;VALUE=DURATION:PT1H
X-Robots-Tag:noindex
X-PUBLISHED-TTL:PT1H
BEGIN:VTIMEZONE
TZID:Europe/Amsterdam
BEGIN:DAYLIGHT
TZOFFSETFROM:+0100
TZOFFSETTO:+0200
TZNAME:CEST
DTSTART:20230326T010000
END:DAYLIGHT
BEGIN:STANDARD
TZOFFSETFROM:+0200
TZOFFSETTO:+0100
TZNAME:CET
DTSTART:20231029T010000
END:STANDARD
BEGIN:DAYLIGHT
TZOFFSETFROM:+0100
TZOFFSETTO:+0200
TZNAME:CEST
DTSTART:20240331T010000
END:DAYLIGHT
BEGIN:STANDARD
TZOFFSETFROM:+0200
TZOFFSETTO:+0100
TZNAME:CET
DTSTART:20241027T010000
END:STANDARD
BEGIN:DAYLIGHT
TZOFFSETFROM:+0100
TZOFFSETTO:+0200
TZNAME:CEST
DTSTART:20250330T010000
END:DAYLIGHT
BEGIN:STANDARD
TZOFFSETFROM:+0200
TZOFFSETTO:+0100
TZNAME:CET
DTSTART:20251026T010000
END:STANDARD
END:VTIMEZONE
BEGIN:VEVENT
DTSTART;TZID=Europe/Amsterdam:20241024T123000
DTEND;TZID=Europe/Amsterdam:20241024T131500
DTSTAMP:20260423T223216
CREATED:20241001T130623Z
LAST-MODIFIED:20241001T130623Z
UID:7734-1729773000-1729775700@aegee-eindhoven.nl
SUMMARY:Tosti Lunch
DESCRIPTION:
URL:https://aegee-eindhoven.nl/activity/tosti-lunch-104/
LOCATION:Common Room\, MetaForum 0.090\, Eindhoven\, North Brabant\, Netherlands
CATEGORIES:Thursday Lunches
ORGANIZER;CN="Board":MAILTO:board@aegee-eindhoven.nl
END:VEVENT
BEGIN:VEVENT
DTSTART;TZID=Europe/Amsterdam:20241023T180000
DTEND;TZID=Europe/Amsterdam:20241023T220000
DTSTAMP:20260423T223216
CREATED:20240813T091901Z
LAST-MODIFIED:20241024T112605Z
UID:7282-1729706400-1729720800@aegee-eindhoven.nl
SUMMARY:Board Game Night
DESCRIPTION:As exams are coming up and the After-Intro is coming to an end we would like to finish this quartile of events off with a *🎲 Chill Board Game Night 🎲* \nSo\, still\, some time to chill before the hell of exams starts\, *join us for a cozy night of board games!* Bring your own games or take a game from the common room cabinet. Whether you just want to chat\, hang out\, eat dinner\, play a short game\, and destress\, definitely stop by the 23rd! \nSee you then!  \nSignups are closed.
URL:https://aegee-eindhoven.nl/activity/board-game-night-24/
LOCATION:Common Room\, MetaForum 0.090\, Eindhoven\, North Brabant\, Netherlands
CATEGORIES:After-Intro
END:VEVENT
BEGIN:VEVENT
DTSTART;TZID=Europe/Amsterdam:20241021T180000
DTEND;TZID=Europe/Amsterdam:20241021T220000
DTSTAMP:20260423T223216
CREATED:20241013T184449Z
LAST-MODIFIED:20250812T144759Z
UID:7807-1729533600-1729548000@aegee-eindhoven.nl
SUMMARY:Autumn Agora Input Session
DESCRIPTION:From the 31st of October until the 3rd of November\, Edelweiss\, Richard and Lina will be AEGEE-Eindhoven’s delegates for the Autumn Agora of the entire AEGEE Network! To properly convey the opinion of AEGEE-Eindhoven\, the board is organizing an input session where we will discuss all proposals and other relevant matters with our members. There will be a free dinner beforehand!
URL:https://aegee-eindhoven.nl/activity/autumn-agora-input-session-2/
CATEGORIES:Statutory
ORGANIZER;CN="Board":MAILTO:board@aegee-eindhoven.nl
END:VEVENT
BEGIN:VEVENT
DTSTART;TZID=Europe/Amsterdam:20241017T123000
DTEND;TZID=Europe/Amsterdam:20241017T131500
DTSTAMP:20260423T223216
CREATED:20241001T130542Z
LAST-MODIFIED:20241001T130542Z
UID:7732-1729168200-1729170900@aegee-eindhoven.nl
SUMMARY:Tosti Lunch
DESCRIPTION:
URL:https://aegee-eindhoven.nl/activity/tosti-lunch-99/
LOCATION:Common Room\, MetaForum 0.090\, Eindhoven\, North Brabant\, Netherlands
CATEGORIES:Thursday Lunches
ORGANIZER;CN="Board":MAILTO:board@aegee-eindhoven.nl
END:VEVENT
BEGIN:VEVENT
DTSTART;TZID=Europe/Amsterdam:20241016T180000
DTEND;TZID=Europe/Amsterdam:20241016T220000
DTSTAMP:20260423T223216
CREATED:20240813T091822Z
LAST-MODIFIED:20241018T203436Z
UID:7279-1729101600-1729116000@aegee-eindhoven.nl
SUMMARY:Stratum Pubcrawl
DESCRIPTION:🎉 Stratum Pubcrawl Eindhoven🍻 – After-Intro \nReady to experience a night out in Eindhoven? Are you ready to drink\, party\, and discover the bars that the longest pub street in the Netherlands has to offer? Each spot brings a unique vibe\, from classic Dutch beers to energetic dance floors! \nExpect laughter\, new friends\, dancing\, and even a few amazing memories!🤩 \nGrab your spot now\, and let’s make a night in Eindhoven unforgettable! 💃🕺 \nSignups are closed.
URL:https://aegee-eindhoven.nl/activity/stratum-pubcrawl/
CATEGORIES:After-Intro
END:VEVENT
BEGIN:VEVENT
DTSTART;TZID=Europe/Amsterdam:20241010T123000
DTEND;TZID=Europe/Amsterdam:20241010T131500
DTSTAMP:20260423T223216
CREATED:20240831T095817Z
LAST-MODIFIED:20240925T132852Z
UID:7563-1728563400-1728566100@aegee-eindhoven.nl
SUMMARY:After-Intro Special Turkish Tosti Lunch
DESCRIPTION:
URL:https://aegee-eindhoven.nl/activity/tosti-lunch-turkish/
LOCATION:Common Room\, MetaForum 0.090\, Eindhoven\, North Brabant\, Netherlands
CATEGORIES:Thursday Lunches
ORGANIZER;CN="Board":MAILTO:board@aegee-eindhoven.nl
END:VEVENT
BEGIN:VEVENT
DTSTART;TZID=Europe/Amsterdam:20241009T180000
DTEND;TZID=Europe/Amsterdam:20241009T220000
DTSTAMP:20260423T223216
CREATED:20240813T091735Z
LAST-MODIFIED:20241010T141922Z
UID:7277-1728496800-1728511200@aegee-eindhoven.nl
SUMMARY:European Night
DESCRIPTION:🍻 Sip\, Snack\, and Discover Europe with our European Night! 🍇 \nJoin us for a taste adventure like no other! 🌍✨ During this classic AEGEE-Eindhoven tradition participants bring in duo’s some snacks and drinks (on own costs) from a chosen country to the table (potluck style) and enjoy a fun night full of laughter\, new connections and even a few unexpected dance moves. 🍻🥨 \nDon’t worry if you don’t have a partner to prepare your snack and drink with yet\, we’ve created a whatsapp group (in the google docs) to find your other half! \nSo\, let’s drink\, snack\, and make some great memories together! 🥂✨ \nSignups are closed. \n 
URL:https://aegee-eindhoven.nl/activity/european-night-24/
LOCATION:Common Room\, MetaForum 0.090\, Eindhoven\, North Brabant\, Netherlands
CATEGORIES:After-Intro
END:VEVENT
BEGIN:VEVENT
DTSTART;VALUE=DATE:20241004
DTEND;VALUE=DATE:20241007
DTSTAMP:20260423T223216
CREATED:20240813T091622Z
LAST-MODIFIED:20241010T141820Z
UID:7275-1728000000-1728259199@aegee-eindhoven.nl
SUMMARY:Brussels Exchange
DESCRIPTION:Signups are closed. \n🚀 Join us for an epic weekend in Brussels with AEGEE-Eindhoven! From October 4th to 6th\, we’re exploring the heart of Europe with a city tour 🏙️\, a pub crawl 🍻\, and a visit to the famous comic book museum 🎨📚. Plus\, you’ll have plenty of free time to discover the city on your own! 🛶🌟 \nFor AEGEE-Eindhoven members\, it’s just €36 💸\, and if you signed up for the After-Intro\, you’re joining for FREE*! 🙌🔥 \n🚍 *Transport is not included\, but don’t worry – we’ll discuss bus options! \n⚠️ Only 25 spots available\, so sign up quickly and don’t miss out on this incredible adventure! ✨
URL:https://aegee-eindhoven.nl/activity/brussels-exchange-24/
CATEGORIES:After-Intro,Exchanges
END:VEVENT
BEGIN:VEVENT
DTSTART;TZID=Europe/Amsterdam:20241003T123000
DTEND;TZID=Europe/Amsterdam:20241003T131500
DTSTAMP:20260423T223216
CREATED:20240922T093942Z
LAST-MODIFIED:20240922T093942Z
UID:7689-1727958600-1727961300@aegee-eindhoven.nl
SUMMARY:Tosti Lunch
DESCRIPTION:
URL:https://aegee-eindhoven.nl/activity/tosti-lunch-103/
LOCATION:Common Room\, MetaForum 0.090\, Eindhoven\, North Brabant\, Netherlands
CATEGORIES:Thursday Lunches
ORGANIZER;CN="Board":MAILTO:board@aegee-eindhoven.nl
END:VEVENT
BEGIN:VEVENT
DTSTART;TZID=Europe/Amsterdam:20241002T180000
DTEND;TZID=Europe/Amsterdam:20241002T220000
DTSTAMP:20260423T223216
CREATED:20240813T091532Z
LAST-MODIFIED:20241010T141834Z
UID:7273-1727892000-1727906400@aegee-eindhoven.nl
SUMMARY:Europe Pubquiz
DESCRIPTION:🎉 AEGEE-Eindhoven Pubquiz Night! 🍻🧠 \nThink you’re pretty smart? Well let’s prove that in a fun night of questions\, laughs\, and friendly competition! 🌟 \nWhether you’re an expert in maps\, music\, or just someone with a head full of random facts\, everyone has something to bring to the table! \nTopics include:  \n❓ General Knowledge\n🗺️ Topography\n🎶 Music\n🔬 Science\n🎥 Movies\n✨ Fun Facts about AEGEE \nSignups are closed.
URL:https://aegee-eindhoven.nl/activity/europe-pubquiz/
LOCATION:Common Room\, MetaForum 0.090\, Eindhoven\, North Brabant\, Netherlands
CATEGORIES:After-Intro
ORGANIZER;CN="After-Intro Committee":MAILTO:afterintro@aegee-eindhoven.nl
END:VEVENT
BEGIN:VEVENT
DTSTART;TZID=Europe/Amsterdam:20241001T180000
DTEND;TZID=Europe/Amsterdam:20241001T200000
DTSTAMP:20260423T223216
CREATED:20240827T134041Z
LAST-MODIFIED:20241008T093120Z
UID:7534-1727805600-1727812800@aegee-eindhoven.nl
SUMMARY:Strategic Plan Input Session
DESCRIPTION:Please join us for free dinner and give your feedback on the second draft of the Strategic Plan 2025-2029! \nSignups are closed.
URL:https://aegee-eindhoven.nl/activity/sp-input-session-2/
LOCATION:Common Room\, MetaForum 0.090\, Eindhoven\, North Brabant\, Netherlands
ORGANIZER;CN="Strategic Plan Working Group":MAILTO:strategic-plan@aegee-eindhoven.nl
END:VEVENT
BEGIN:VEVENT
DTSTART;TZID=Europe/Amsterdam:20240930T180000
DTEND;TZID=Europe/Amsterdam:20240930T220000
DTSTAMP:20260423T223216
CREATED:20240831T095614Z
LAST-MODIFIED:20240905T103214Z
UID:7554-1727719200-1727733600@aegee-eindhoven.nl
SUMMARY:Local Agora September 2024
DESCRIPTION:Dear members\, you can find the invitation in your mailbox. At this Local Agora we will be presenting the updated board plan of the 36’th board.
URL:https://aegee-eindhoven.nl/activity/local-agora-september-2024/
CATEGORIES:Statutory
ORGANIZER;CN="Board":MAILTO:board@aegee-eindhoven.nl
END:VEVENT
BEGIN:VEVENT
DTSTART;TZID=Europe/Amsterdam:20240926T123000
DTEND;TZID=Europe/Amsterdam:20240926T131500
DTSTAMP:20260423T223216
CREATED:20240922T093856Z
LAST-MODIFIED:20240922T093856Z
UID:7686-1727353800-1727356500@aegee-eindhoven.nl
SUMMARY:Tosti Lunch
DESCRIPTION:
URL:https://aegee-eindhoven.nl/activity/tosti-lunch-102/
LOCATION:Common Room\, MetaForum 0.090\, Eindhoven\, North Brabant\, Netherlands
CATEGORIES:Thursday Lunches
ORGANIZER;CN="Board":MAILTO:board@aegee-eindhoven.nl
END:VEVENT
BEGIN:VEVENT
DTSTART;TZID=Europe/Amsterdam:20240925T180000
DTEND;TZID=Europe/Amsterdam:20240925T220000
DTSTAMP:20260423T223216
CREATED:20240813T091402Z
LAST-MODIFIED:20240927T075208Z
UID:7271-1727287200-1727301600@aegee-eindhoven.nl
SUMMARY:Discover AEGEE Market
DESCRIPTION:Signups are closed. \n🌍✨ Discover AEGEE: in Eindhoven and across Europe! ✨🌍 \nLoving the activities at AEGEE-Eindhoven? It’s just the beginning! 🎉 \nWant to dive deeper\, meet amazing people\, and develop new skills? Join one of our Committees! Not only will you make great connections\, but you’ll also build valuable soft skills while having fun in a smaller group. \nOr\, explore our Interest Groups  – whether you’re passionate about board games\, learning a new language\, or other hobbies\, there’s a group of like-minded people waiting for you! \n🚀 But the adventure doesn’t stop in Eindhoven! With our network over whole Europe\, you can travel across the continent\, attending events\, Summer Universities\, and Agorae in amazing places. Explore new cultures\, experience local traditions\, and make lifelong friends in cities all over Europe! \n🌍 With a vast network in over 160 cities\, AEGEE offers endless opportunities to grow\, connect\, and make an impact. Whether you’re working on youth empowerment projects or simply enjoying the thrill of discovering new places\, AEGEE is your gateway to Europe. \nReady to take the next step?\nJoin us and be part of something bigger! 💙
URL:https://aegee-eindhoven.nl/activity/discover-aegee-market/
LOCATION:Common Room\, MetaForum 0.090\, Eindhoven\, North Brabant\, Netherlands
CATEGORIES:After-Intro
END:VEVENT
BEGIN:VEVENT
DTSTART;TZID=Europe/Amsterdam:20240919T123000
DTEND;TZID=Europe/Amsterdam:20240919T131500
DTSTAMP:20260423T223216
CREATED:20240917T124857Z
LAST-MODIFIED:20240917T124857Z
UID:7663-1726749000-1726751700@aegee-eindhoven.nl
SUMMARY:Tosti Lunch
DESCRIPTION:
URL:https://aegee-eindhoven.nl/activity/tosti-lunch-101/
LOCATION:Common Room\, MetaForum 0.090\, Eindhoven\, North Brabant\, Netherlands
CATEGORIES:Thursday Lunches
ORGANIZER;CN="Board":MAILTO:board@aegee-eindhoven.nl
END:VEVENT
BEGIN:VEVENT
DTSTART;TZID=Europe/Amsterdam:20240918T180000
DTEND;TZID=Europe/Amsterdam:20240918T220000
DTSTAMP:20260423T223216
CREATED:20240903T184423Z
LAST-MODIFIED:20240919T211458Z
UID:7591-1726682400-1726696800@aegee-eindhoven.nl
SUMMARY:European Dinner
DESCRIPTION:Signups are closed! \nIt’s that time of the year again for one of our most anticipated\, exciting events: ✨ European Dinner ✨\nOur beloved chique 5 course dinner (with free wine) 🍷 💫 \nGather all your friends and come discover the taste of Europe.🥟 From Lithuania 🇱🇹 to Cyprus 🇨🇾\, where will our cooks take us this year? 🌍 Come and find out for yourself what the spirit of Europe 💃 has to offer you! 🥨🥯🥘 \nThere will be a maximum of 40 signups\, so be quick. First come first serve! \n 
URL:https://aegee-eindhoven.nl/activity/european-dinner-24/
LOCATION:Common Room\, MetaForum 0.090\, Eindhoven\, North Brabant\, Netherlands
CATEGORIES:After-Intro
END:VEVENT
BEGIN:VEVENT
DTSTART;TZID=Europe/Amsterdam:20240916T170000
DTEND;TZID=Europe/Amsterdam:20240916T220000
DTSTAMP:20260423T223216
CREATED:20240813T091152Z
LAST-MODIFIED:20240919T211450Z
UID:7267-1726506000-1726524000@aegee-eindhoven.nl
SUMMARY:Student Budgeting Workshop
DESCRIPTION:Come enjoy good food\, and learn how to do that regularly on a student’s budget! \nANNOUNCEMENT:\nTHE WORKSHOP IS CANCELLED FOR NOW
URL:https://aegee-eindhoven.nl/activity/student-budgeting-workshop/
CATEGORIES:After-Intro
END:VEVENT
BEGIN:VEVENT
DTSTART;TZID=Europe/Amsterdam:20240912T123000
DTEND;TZID=Europe/Amsterdam:20240912T131500
DTSTAMP:20260423T223216
CREATED:20240912T102917Z
LAST-MODIFIED:20240912T102917Z
UID:7634-1726144200-1726146900@aegee-eindhoven.nl
SUMMARY:Tosti Lunch
DESCRIPTION:
URL:https://aegee-eindhoven.nl/activity/tosti-lunch-100/
LOCATION:Common Room\, MetaForum 0.090\, Eindhoven\, North Brabant\, Netherlands
CATEGORIES:Thursday Lunches
ORGANIZER;CN="Board":MAILTO:board@aegee-eindhoven.nl
END:VEVENT
BEGIN:VEVENT
DTSTART;TZID=Europe/Amsterdam:20240911T180000
DTEND;TZID=Europe/Amsterdam:20240911T220000
DTSTAMP:20260423T223216
CREATED:20240813T091101Z
LAST-MODIFIED:20240919T211444Z
UID:7265-1726077600-1726092000@aegee-eindhoven.nl
SUMMARY:Campus Lasergaming
DESCRIPTION:Make sure to join us for an amazing evening of laser gaming on campus! Sign up below: \nSignups are closed.
URL:https://aegee-eindhoven.nl/activity/campus-lasergaming/
CATEGORIES:After-Intro
ORGANIZER;CN="After-Intro Committee":MAILTO:afterintro@aegee-eindhoven.nl
END:VEVENT
BEGIN:VEVENT
DTSTART;TZID=Europe/Amsterdam:20240905T123000
DTEND;TZID=Europe/Amsterdam:20240905T131500
DTSTAMP:20260423T223216
CREATED:20240831T095452Z
LAST-MODIFIED:20240831T095529Z
UID:7558-1725539400-1725542100@aegee-eindhoven.nl
SUMMARY:Tosti Lunch
DESCRIPTION:
URL:https://aegee-eindhoven.nl/activity/tosti-lunch-98/
LOCATION:Common Room\, MetaForum 0.090\, Eindhoven\, North Brabant\, Netherlands
CATEGORIES:Thursday Lunches
ORGANIZER;CN="Board":MAILTO:board@aegee-eindhoven.nl
END:VEVENT
BEGIN:VEVENT
DTSTART;TZID=Europe/Amsterdam:20240904T180000
DTEND;TZID=Europe/Amsterdam:20240904T220000
DTSTAMP:20260423T223216
CREATED:20240813T090925Z
LAST-MODIFIED:20240905T102550Z
UID:7262-1725472800-1725487200@aegee-eindhoven.nl
SUMMARY:After-Intro BBQ
DESCRIPTION:Hey there! We are thrilled to invite you to kick off the academic year with our first exciting activity! \nJoin us for an evening of delicious food\, fun games\, and great company. This is the perfect opportunity to meet fellow students\, make new friends\, and get to know more about our association. Whether you’re a BBQ enthusiast or just looking for a good time\, we’ve got something for everyone! \nAre you new here?🎯 Don’t forget to check out our entire After-Intro program! With 9 activities and membership only for a small fee you do not want to miss this great deal. More information and signup here: https://aegee-eindhoven.nl/after-intro-signup/ \nSignups are closed.
URL:https://aegee-eindhoven.nl/activity/after-intro-bbq-24/
CATEGORIES:After-Intro
ORGANIZER;CN="After-Intro Committee":MAILTO:afterintro@aegee-eindhoven.nl
END:VEVENT
BEGIN:VEVENT
DTSTART;TZID=Europe/Amsterdam:20240819T130000
DTEND;TZID=Europe/Amsterdam:20240819T150000
DTSTAMP:20260423T223216
CREATED:20240813T132622Z
LAST-MODIFIED:20240813T132922Z
UID:7296-1724072400-1724079600@aegee-eindhoven.nl
SUMMARY:Intro Volunteer Info Session + Lunch
DESCRIPTION:For all members who will volunteer during the Introduction Week\, join this free info lunch!
URL:https://aegee-eindhoven.nl/activity/intro-volunteer-info-session-lunch/
LOCATION:Common Room\, MetaForum 0.090\, Eindhoven\, North Brabant\, Netherlands
ORGANIZER;CN="Intro Committee":MAILTO:intro@aegee-eindhoven.nl
END:VEVENT
BEGIN:VEVENT
DTSTART;TZID=Europe/Amsterdam:20240703T180000
DTEND;TZID=Europe/Amsterdam:20240703T220000
DTSTAMP:20260423T223216
CREATED:20240625T151339Z
LAST-MODIFIED:20240708T224350Z
UID:7149-1720029600-1720044000@aegee-eindhoven.nl
SUMMARY:Summer Themed Borrel
DESCRIPTION:The summer ✨vibes✨ will start a few days earlier at this special Summer Themed borrel! Dress up in your most sunny🌞 summer clothing👓👒👚 and join the last dinner and borrel of the year! \nSignups are closed.
URL:https://aegee-eindhoven.nl/activity/summer-themed-borrel/
LOCATION:Hubble Community Café\, De Lampendriessen 31-05\, Eindhoven\, North Brabant\, 5612 AH\, Netherlands
ORGANIZER;CN="Board":MAILTO:board@aegee-eindhoven.nl
END:VEVENT
BEGIN:VEVENT
DTSTART;TZID=Europe/Amsterdam:20240628T200000
DTEND;TZID=Europe/Amsterdam:20240629T040000
DTSTAMP:20260423T223216
CREATED:20240529T140144Z
LAST-MODIFIED:20240530T141459Z
UID:7056-1719604800-1719633600@aegee-eindhoven.nl
SUMMARY:Nedertop Party Groningen
DESCRIPTION:
URL:https://aegee-eindhoven.nl/activity/nedertop-party-groningen/
CATEGORIES:Nedertop
ORGANIZER;CN="AEGEE-Groningen":MAILTO:board@aegee-groningen.nl
END:VEVENT
BEGIN:VEVENT
DTSTART;TZID=Europe/Amsterdam:20240620T123000
DTEND;TZID=Europe/Amsterdam:20240620T131500
DTSTAMP:20260423T223216
CREATED:20240517T065237Z
LAST-MODIFIED:20240517T065237Z
UID:6992-1718886600-1718889300@aegee-eindhoven.nl
SUMMARY:Tosti Lunch
DESCRIPTION:
URL:https://aegee-eindhoven.nl/activity/tosti-lunch-97/
LOCATION:Common Room\, MetaForum 0.090\, Eindhoven\, North Brabant\, Netherlands
CATEGORIES:Thursday Lunches
ORGANIZER;CN="Board":MAILTO:board@aegee-eindhoven.nl
END:VEVENT
BEGIN:VEVENT
DTSTART;TZID=Europe/Amsterdam:20240619T180000
DTEND;TZID=Europe/Amsterdam:20240619T220000
DTSTAMP:20260423T223216
CREATED:20240529T140006Z
LAST-MODIFIED:20240616T083445Z
UID:7054-1718820000-1718834400@aegee-eindhoven.nl
SUMMARY:Board Game Evening
DESCRIPTION:Come enjoy some nice distractions from studying.\nThe Strategic Plan Working Group will also be presenting their first draft during this activity.
URL:https://aegee-eindhoven.nl/activity/board-game-evening/
LOCATION:Common Room\, MetaForum 0.090\, Eindhoven\, North Brabant\, Netherlands
END:VEVENT
BEGIN:VEVENT
DTSTART;TZID=Europe/Amsterdam:20240619T180000
DTEND;TZID=Europe/Amsterdam:20240619T210000
DTSTAMP:20260423T223216
CREATED:20240529T135538Z
LAST-MODIFIED:20240619T120228Z
UID:7049-1718820000-1718830800@aegee-eindhoven.nl
SUMMARY:Strategic Plan Input Session
DESCRIPTION:The Strategic Plan Working Group (SPWG) is once again asking for your input for the strategic plan. This time it will be more chill and there will be more room to discuss. We will also be working on drafting and the spwg will be providing a first outline of the topics in the plan.
URL:https://aegee-eindhoven.nl/activity/sp-input-session/
LOCATION:Common Room\, MetaForum 0.090\, Eindhoven\, North Brabant\, Netherlands
END:VEVENT
BEGIN:VEVENT
DTSTART;TZID=Europe/Amsterdam:20240613T123000
DTEND;TZID=Europe/Amsterdam:20240613T131500
DTSTAMP:20260423T223216
CREATED:20240517T065127Z
LAST-MODIFIED:20240517T065127Z
UID:6990-1718281800-1718284500@aegee-eindhoven.nl
SUMMARY:Tosti Lunch
DESCRIPTION:
URL:https://aegee-eindhoven.nl/activity/tosti-lunch-96/
LOCATION:Common Room\, MetaForum 0.090\, Eindhoven\, North Brabant\, Netherlands
CATEGORIES:Thursday Lunches
ORGANIZER;CN="Board":MAILTO:board@aegee-eindhoven.nl
END:VEVENT
BEGIN:VEVENT
DTSTART;TZID=Europe/Amsterdam:20240612T180000
DTEND;TZID=Europe/Amsterdam:20240612T213000
DTSTAMP:20260423T223216
CREATED:20240608T202303Z
LAST-MODIFIED:20240612T221823Z
UID:7099-1718215200-1718227800@aegee-eindhoven.nl
SUMMARY:Dinner and Social Drink
DESCRIPTION:Signups are closed.
URL:https://aegee-eindhoven.nl/activity/dinner-borrel-12-06/
END:VEVENT
BEGIN:VEVENT
DTSTART;TZID=Europe/Amsterdam:20240610T180000
DTEND;TZID=Europe/Amsterdam:20240610T220000
DTSTAMP:20260423T223216
CREATED:20240529T135856Z
LAST-MODIFIED:20240814T120712Z
UID:7051-1718042400-1718056800@aegee-eindhoven.nl
SUMMARY:Local Agora June 2024
DESCRIPTION:You can find the invitation in your mailbox. At this Local Agora we will be electing the upcoming board!!
URL:https://aegee-eindhoven.nl/activity/local-agora-june-2024/
CATEGORIES:Statutory
ORGANIZER;CN="Board":MAILTO:board@aegee-eindhoven.nl
END:VEVENT
END:VCALENDAR