BEGIN:VCALENDAR
VERSION:2.0
PRODID:-//AEGEE-Eindhoven - ECPv6.15.20//NONSGML v1.0//EN
CALSCALE:GREGORIAN
METHOD:PUBLISH
X-ORIGINAL-URL:https://aegee-eindhoven.nl
X-WR-CALDESC:Events for AEGEE-Eindhoven
REFRESH-INTERVAL;VALUE=DURATION:PT1H
X-Robots-Tag:noindex
X-PUBLISHED-TTL:PT1H
BEGIN:VTIMEZONE
TZID:Europe/Amsterdam
BEGIN:DAYLIGHT
TZOFFSETFROM:+0100
TZOFFSETTO:+0200
TZNAME:CEST
DTSTART:20230326T010000
END:DAYLIGHT
BEGIN:STANDARD
TZOFFSETFROM:+0200
TZOFFSETTO:+0100
TZNAME:CET
DTSTART:20231029T010000
END:STANDARD
BEGIN:DAYLIGHT
TZOFFSETFROM:+0100
TZOFFSETTO:+0200
TZNAME:CEST
DTSTART:20240331T010000
END:DAYLIGHT
BEGIN:STANDARD
TZOFFSETFROM:+0200
TZOFFSETTO:+0100
TZNAME:CET
DTSTART:20241027T010000
END:STANDARD
BEGIN:DAYLIGHT
TZOFFSETFROM:+0100
TZOFFSETTO:+0200
TZNAME:CEST
DTSTART:20250330T010000
END:DAYLIGHT
BEGIN:STANDARD
TZOFFSETFROM:+0200
TZOFFSETTO:+0100
TZNAME:CET
DTSTART:20251026T010000
END:STANDARD
END:VTIMEZONE
BEGIN:VEVENT
DTSTART;TZID=Europe/Amsterdam:20240620T123000
DTEND;TZID=Europe/Amsterdam:20240620T131500
DTSTAMP:20260424T015336
CREATED:20240517T065237Z
LAST-MODIFIED:20240517T065237Z
UID:6992-1718886600-1718889300@aegee-eindhoven.nl
SUMMARY:Tosti Lunch
DESCRIPTION:
URL:https://aegee-eindhoven.nl/activity/tosti-lunch-97/
LOCATION:Common Room\, MetaForum 0.090\, Eindhoven\, North Brabant\, Netherlands
CATEGORIES:Thursday Lunches
ORGANIZER;CN="Board":MAILTO:board@aegee-eindhoven.nl
END:VEVENT
BEGIN:VEVENT
DTSTART;TZID=Europe/Amsterdam:20240619T180000
DTEND;TZID=Europe/Amsterdam:20240619T220000
DTSTAMP:20260424T015336
CREATED:20240529T140006Z
LAST-MODIFIED:20240616T083445Z
UID:7054-1718820000-1718834400@aegee-eindhoven.nl
SUMMARY:Board Game Evening
DESCRIPTION:Come enjoy some nice distractions from studying.\nThe Strategic Plan Working Group will also be presenting their first draft during this activity.
URL:https://aegee-eindhoven.nl/activity/board-game-evening/
LOCATION:Common Room\, MetaForum 0.090\, Eindhoven\, North Brabant\, Netherlands
END:VEVENT
BEGIN:VEVENT
DTSTART;TZID=Europe/Amsterdam:20240619T180000
DTEND;TZID=Europe/Amsterdam:20240619T210000
DTSTAMP:20260424T015336
CREATED:20240529T135538Z
LAST-MODIFIED:20240619T120228Z
UID:7049-1718820000-1718830800@aegee-eindhoven.nl
SUMMARY:Strategic Plan Input Session
DESCRIPTION:The Strategic Plan Working Group (SPWG) is once again asking for your input for the strategic plan. This time it will be more chill and there will be more room to discuss. We will also be working on drafting and the spwg will be providing a first outline of the topics in the plan.
URL:https://aegee-eindhoven.nl/activity/sp-input-session/
LOCATION:Common Room\, MetaForum 0.090\, Eindhoven\, North Brabant\, Netherlands
END:VEVENT
BEGIN:VEVENT
DTSTART;TZID=Europe/Amsterdam:20240613T123000
DTEND;TZID=Europe/Amsterdam:20240613T131500
DTSTAMP:20260424T015336
CREATED:20240517T065127Z
LAST-MODIFIED:20240517T065127Z
UID:6990-1718281800-1718284500@aegee-eindhoven.nl
SUMMARY:Tosti Lunch
DESCRIPTION:
URL:https://aegee-eindhoven.nl/activity/tosti-lunch-96/
LOCATION:Common Room\, MetaForum 0.090\, Eindhoven\, North Brabant\, Netherlands
CATEGORIES:Thursday Lunches
ORGANIZER;CN="Board":MAILTO:board@aegee-eindhoven.nl
END:VEVENT
BEGIN:VEVENT
DTSTART;TZID=Europe/Amsterdam:20240612T180000
DTEND;TZID=Europe/Amsterdam:20240612T213000
DTSTAMP:20260424T015336
CREATED:20240608T202303Z
LAST-MODIFIED:20240612T221823Z
UID:7099-1718215200-1718227800@aegee-eindhoven.nl
SUMMARY:Dinner and Social Drink
DESCRIPTION:Signups are closed.
URL:https://aegee-eindhoven.nl/activity/dinner-borrel-12-06/
LOCATION:North Brabant
END:VEVENT
BEGIN:VEVENT
DTSTART;TZID=Europe/Amsterdam:20240610T180000
DTEND;TZID=Europe/Amsterdam:20240610T220000
DTSTAMP:20260424T015336
CREATED:20240529T135856Z
LAST-MODIFIED:20240814T120712Z
UID:7051-1718042400-1718056800@aegee-eindhoven.nl
SUMMARY:Local Agora June 2024
DESCRIPTION:You can find the invitation in your mailbox. At this Local Agora we will be electing the upcoming board!!
URL:https://aegee-eindhoven.nl/activity/local-agora-june-2024/
LOCATION:North Brabant
CATEGORIES:Statutory
ORGANIZER;CN="Board":MAILTO:board@aegee-eindhoven.nl
END:VEVENT
BEGIN:VEVENT
DTSTART;TZID=Europe/Amsterdam:20240606T123000
DTEND;TZID=Europe/Amsterdam:20240606T131500
DTSTAMP:20260424T015336
CREATED:20240517T064956Z
LAST-MODIFIED:20240517T064956Z
UID:6988-1717677000-1717679700@aegee-eindhoven.nl
SUMMARY:Tosti Lunch
DESCRIPTION:
URL:https://aegee-eindhoven.nl/activity/tosti-lunch-95/
LOCATION:Common Room\, MetaForum 0.090\, Eindhoven\, North Brabant\, Netherlands
CATEGORIES:Thursday Lunches
ORGANIZER;CN="Board":MAILTO:board@aegee-eindhoven.nl
END:VEVENT
BEGIN:VEVENT
DTSTART;TZID=Europe/Amsterdam:20240605T180000
DTEND;TZID=Europe/Amsterdam:20240605T210000
DTSTAMP:20260424T015336
CREATED:20240521T161641Z
LAST-MODIFIED:20240605T220404Z
UID:7016-1717610400-1717621200@aegee-eindhoven.nl
SUMMARY:Frisbee Workshop
DESCRIPTION:Join us for a fun frisbee workshop by certified trainers! With dinner and a social drink afterwards of course. 😉 \nSignups are closed.
URL:https://aegee-eindhoven.nl/activity/frisbee-workshop/
LOCATION:Flux Field\, Eindhoven\, North Brabant\, Netherlands
END:VEVENT
BEGIN:VEVENT
DTSTART;TZID=Europe/Amsterdam:20240601T160000
DTEND;TZID=Europe/Amsterdam:20240601T180000
DTSTAMP:20260424T015336
CREATED:20240521T161005Z
LAST-MODIFIED:20240529T134941Z
UID:7013-1717257600-1717264800@aegee-eindhoven.nl
SUMMARY:Active Members Day
DESCRIPTION:A special day of thanks to our lovely members who are active in committees. Without them the association would not be able to run. <3\nWe will meet at 16:00\, and there will be an optional dinner afterwards. \nWould like to join the next one? Consider helping out the association by joining a committee! More information can be found https://aegee-eindhoven.nl/eindhoven/committees/ or speak to any committee/board member.
URL:https://aegee-eindhoven.nl/activity/active-members-day/
LOCATION:North Brabant
ORGANIZER;CN="Board":MAILTO:board@aegee-eindhoven.nl
END:VEVENT
BEGIN:VEVENT
DTSTART;TZID=Europe/Amsterdam:20240530T123000
DTEND;TZID=Europe/Amsterdam:20240530T131500
DTSTAMP:20260424T015336
CREATED:20240517T064821Z
LAST-MODIFIED:20240517T064821Z
UID:6986-1717072200-1717074900@aegee-eindhoven.nl
SUMMARY:Tosti Lunch
DESCRIPTION:
URL:https://aegee-eindhoven.nl/activity/tosti-lunch-94/
LOCATION:Common Room\, MetaForum 0.090\, Eindhoven\, North Brabant\, Netherlands
CATEGORIES:Thursday Lunches
ORGANIZER;CN="Board":MAILTO:board@aegee-eindhoven.nl
END:VEVENT
BEGIN:VEVENT
DTSTART;TZID=Europe/Amsterdam:20240529T180000
DTEND;TZID=Europe/Amsterdam:20240529T220000
DTSTAMP:20260424T015336
CREATED:20240506T083904Z
LAST-MODIFIED:20240530T144104Z
UID:6932-1717005600-1717020000@aegee-eindhoven.nl
SUMMARY:Open Potluck Dinner & Social Drink
DESCRIPTION:Bring your favorite European dish and invite all your friends\, vvv’tjes\, classmates and anyone else who’s interested in joining us for a nice dinner and some drinks. \nSignups are closed.
URL:https://aegee-eindhoven.nl/activity/open-potluck-dinner-and-social-drink/
LOCATION:Common Room\, MetaForum 0.090\, Eindhoven\, North Brabant\, Netherlands
ORGANIZER;CN="Board":MAILTO:board@aegee-eindhoven.nl
END:VEVENT
BEGIN:VEVENT
DTSTART;TZID=Europe/Amsterdam:20240528T143000
DTEND;TZID=Europe/Amsterdam:20240528T173000
DTSTAMP:20260424T015336
CREATED:20240506T091539Z
LAST-MODIFIED:20240506T140930Z
UID:6941-1716906600-1716917400@aegee-eindhoven.nl
SUMMARY:Europe Debate Eindhoven (External)
DESCRIPTION:European elections are coming up soon. No clue who to vote for? Would like to get some more information about the current focus points of EU politicians? Europe Direct is organizing this free debate with 6 European politicians. AEGEE-Eindhoven is invited to come and will be bringing a guest speaker… TBA! \nThis debate will be entirely in Dutch.\nMore information and the signup can be found here: https://www.eventbrite.nl/e/europa-debat-eindhoven-28-mei-2024-tickets-887600164987?aff=oddtdtcreator
URL:https://aegee-eindhoven.nl/activity/europe-debate-eindhoven-external-activity/
LOCATION:Parktheater\, Elzentlaan 50\, Eindhoven\, North Brabant\, 5615 CN\, Netherlands
END:VEVENT
BEGIN:VEVENT
DTSTART;TZID=Europe/Amsterdam:20240523T123000
DTEND;TZID=Europe/Amsterdam:20240523T131500
DTSTAMP:20260424T015336
CREATED:20240517T064715Z
LAST-MODIFIED:20240517T064715Z
UID:6984-1716467400-1716470100@aegee-eindhoven.nl
SUMMARY:Tosti Lunch
DESCRIPTION:
URL:https://aegee-eindhoven.nl/activity/tosti-lunch-93/
LOCATION:Common Room\, MetaForum 0.090\, Eindhoven\, North Brabant\, Netherlands
CATEGORIES:Thursday Lunches
ORGANIZER;CN="Board":MAILTO:board@aegee-eindhoven.nl
END:VEVENT
BEGIN:VEVENT
DTSTART;TZID=Europe/Amsterdam:20240522T180000
DTEND;TZID=Europe/Amsterdam:20240522T220000
DTSTAMP:20260424T015336
CREATED:20240418T172930Z
LAST-MODIFIED:20250605T134333Z
UID:6845-1716400800-1716415200@aegee-eindhoven.nl
SUMMARY:De Dronken Egel
DESCRIPTION:It is time again for AEGEE-Eindhoven’s most beloved tradition: For one night of the year\, the Baltic-themed bar ‘De Dronken Egel’ will open its doors again! This is truly something you can’t miss out on! This edition will be extra special as we have guests from very far away: our friends from AEGEE-Enschede. \nThe night will be a truly Baltic experience. It will start with a dinner from the local cuisine\, and afterwards the bar will open with the most amazing snacks drinks and cocktails from the Baltics. \nSignups are closed
URL:https://aegee-eindhoven.nl/activity/dronken-egel-24/
LOCATION:Common Room\, MetaForum 0.090\, Eindhoven\, North Brabant\, Netherlands
ATTACH;FMTTYPE=image/png:https://aegee-eindhoven.nl/wp-content/uploads/2024/04/Dronken-Egel-logo-e1714503040133.png
ORGANIZER;CN="Board":MAILTO:board@aegee-eindhoven.nl
END:VEVENT
BEGIN:VEVENT
DTSTART;TZID=Europe/Amsterdam:20240518T114500
DTEND;TZID=Europe/Amsterdam:20240518T200000
DTSTAMP:20260424T015336
CREATED:20240118T214934Z
LAST-MODIFIED:20240430T203804Z
UID:6474-1716032700-1716062400@aegee-eindhoven.nl
SUMMARY:Nedertop Daytrip
DESCRIPTION:Come to the Nedertop daytrip and get to know all Dutch AEGEE locals! We’ll meet at 11:45 at Utrecht Central Station (under the bollendak)\, where we’ll take the bus to Rhijnauwen 2. There\, we’ll enjoy canoeing! After that\, we’ll eat pancakes at the Rhijnauwen pancake house. And to end the day\, we’ll play games in Wilhelminapark. You don’t want to miss out on this! Get your ticket before May 11 via the link: \nhttps://aegee-delft.nl/merchandise/nedertop-daytrip-2024/ \nTwo side notes: If the weather is bad\, we’ll look into a plan B and\, if necessary\, refund the money. Additionally\, for those who can’t join during the day\, it’s also possible to join us at the park around 18:00! 🌱 In that case\, you don’t need to get a ticket. \nWe hope to see you all there! ❤🧡💛💚💙
URL:https://aegee-eindhoven.nl/activity/nedertop-daytrip/
LOCATION:North Brabant
CATEGORIES:Nedertop
END:VEVENT
BEGIN:VEVENT
DTSTART;TZID=Europe/Amsterdam:20240516T123000
DTEND;TZID=Europe/Amsterdam:20240516T131500
DTSTAMP:20260424T015336
CREATED:20240418T183855Z
LAST-MODIFIED:20240418T183855Z
UID:6855-1715862600-1715865300@aegee-eindhoven.nl
SUMMARY:Tosti Lunch
DESCRIPTION:
URL:https://aegee-eindhoven.nl/activity/tosti-lunch-92/
LOCATION:Common Room\, MetaForum 0.090\, Eindhoven\, North Brabant\, Netherlands
CATEGORIES:Thursday Lunches
ORGANIZER;CN="Board":MAILTO:board@aegee-eindhoven.nl
END:VEVENT
BEGIN:VEVENT
DTSTART;TZID=Europe/Amsterdam:20240515T180000
DTEND;TZID=Europe/Amsterdam:20240515T210000
DTSTAMP:20260424T015336
CREATED:20240418T150602Z
LAST-MODIFIED:20240517T064347Z
UID:6830-1715796000-1715806800@aegee-eindhoven.nl
SUMMARY:Dinner & Board Games
DESCRIPTION:☀️Join AEGEE-Eindhoven for a chill picnic and games event! 🧃 \n☀️We’ll start off with four exciting games to start the fun!🥔🥄Don’t miss out on our beloved tradition of Flunkyball\, ⚽️test your skills and bring out the competitive spirit! 🏆 \n☀️Don’t have any energy to play some games? Just chill on a blanket in the sun and enjoy the AEGEE’s company and the vibes!😎 \n☀️Whether you’re a seasoned pro or a complete newbie\, everyone is welcome to join the fun! \n☀️So\, mark your calendars and gather your friends for some sunshine\, games and good times. See you there!🤗 \nSignups are closed.
URL:https://aegee-eindhoven.nl/activity/spring-walk-2/
LOCATION:Common Room\, MetaForum 0.090\, Eindhoven\, North Brabant\, Netherlands
END:VEVENT
BEGIN:VEVENT
DTSTART;VALUE=DATE:20240507
DTEND;VALUE=DATE:20240515
DTSTAMP:20260424T015336
CREATED:20231213T184612Z
LAST-MODIFIED:20240314T103500Z
UID:6321-1715040000-1715731199@aegee-eindhoven.nl
SUMMARY:Lustrum: Tartu Exchange
DESCRIPTION:We’ll be travelling off to the beautiful city of Tartu\, located in Estonia\, to visit our (hopefully) new twin-local! \nSignups are full.
URL:https://aegee-eindhoven.nl/activity/lustrum-exchange-tartu/
LOCATION:North Brabant
CATEGORIES:Exchanges,Lustrum
ATTACH;FMTTYPE=image/png:https://aegee-eindhoven.nl/wp-content/uploads/2023/12/Tartu-Image.png
ORGANIZER;CN="Exchanges Committee":MAILTO:exchanges@aegee-eindhoven.nl
END:VEVENT
BEGIN:VEVENT
DTSTART;TZID=Europe/Amsterdam:20240502T123000
DTEND;TZID=Europe/Amsterdam:20240502T131500
DTSTAMP:20260424T015336
CREATED:20240418T183652Z
LAST-MODIFIED:20240418T183652Z
UID:6853-1714653000-1714655700@aegee-eindhoven.nl
SUMMARY:Tosti Lunch
DESCRIPTION:
URL:https://aegee-eindhoven.nl/activity/tosti-lunch-91/
LOCATION:Common Room\, MetaForum 0.090\, Eindhoven\, North Brabant\, Netherlands
CATEGORIES:Thursday Lunches
ORGANIZER;CN="Board":MAILTO:board@aegee-eindhoven.nl
END:VEVENT
BEGIN:VEVENT
DTSTART;TZID=Europe/Amsterdam:20240501T190000
DTEND;TZID=Europe/Amsterdam:20240501T220000
DTSTAMP:20260424T015336
CREATED:20240418T165203Z
LAST-MODIFIED:20240501T084100Z
UID:6836-1714590000-1714600800@aegee-eindhoven.nl
SUMMARY:Dinner Roulette
DESCRIPTION:It’s time again to do another classic AEGEE-Eindhoven tradition: Dinner Roulette\, where you cook in duo’s for others at your home! \nSign up together or alone (we’ll assign a nice partner for you then 😉) Every pair will be assigned to one course: Entrée🍲\, main🥘 or dessert🍰. Each course will be at a different home with different duo’s! \nEntrée will be eaten at 19:00\, main course at 20:00 and dessert at 21:00.\nParticipants have one hour to eat and to move to the new place. Therefore\, prepare as much of your dishes beforehand so you can all eat on time. \nSignups are closed.
URL:https://aegee-eindhoven.nl/activity/dinner-roulette-3/
LOCATION:North Brabant
ORGANIZER;CN="Cooking Committee":MAILTO:kookcie@aegee-eindhoven.nl
END:VEVENT
BEGIN:VEVENT
DTSTART;TZID=Europe/Amsterdam:20240425T123000
DTEND;TZID=Europe/Amsterdam:20240425T133000
DTSTAMP:20260424T015336
CREATED:20240409T145615Z
LAST-MODIFIED:20240414T134534Z
UID:6800-1714048200-1714051800@aegee-eindhoven.nl
SUMMARY:Sine Regno: Special Tosti Lunch
DESCRIPTION:Thursday 25th of April 12:30\, Sine Regno Day 4!\nThis week there will also be a Tosti Lunch\, but with a Turkish twist to it🇹🇷. Come by during the break on Thursday get the best Tosti you have ever eaten🍞. \nNo need to apply for this one\, only show up!
URL:https://aegee-eindhoven.nl/activity/sine-regno-special-tosti-lunch/
LOCATION:Common Room\, MetaForum 0.090\, Eindhoven\, North Brabant\, Netherlands
CATEGORIES:Thursday Lunches
END:VEVENT
BEGIN:VEVENT
DTSTART;TZID=Europe/Amsterdam:20240424T180000
DTEND;TZID=Europe/Amsterdam:20240424T233000
DTSTAMP:20260424T015336
CREATED:20240409T144957Z
LAST-MODIFIED:20240425T075403Z
UID:6795-1713981600-1714001400@aegee-eindhoven.nl
SUMMARY:Sine Regno: Open Borrel: Hockey Tokkie edition
DESCRIPTION:Wednesday 24th of April 18:00\, Sine Regno Day 3!\nTime to unleash you’re inner Hockey player or Tokkie!🏑 Sine Regno can’t be Sine Regno without a themed borrel🍻. On the third day of Sine Regno Mark & Geert have prepared a special borrel where everyone is welcome.😄 Spread the word and invite your friends!! \nOf course there is a dinner beforehand\, this time we prepared a traditional Dutch fries table.🍟 \nSignups are closed.
URL:https://aegee-eindhoven.nl/activity/sine-regno-open-borrel-hockey-tokkie-edition/
LOCATION:Common Room\, MetaForum 0.090\, Eindhoven\, North Brabant\, Netherlands
END:VEVENT
BEGIN:VEVENT
DTSTART;TZID=Europe/Amsterdam:20240423T180000
DTEND;TZID=Europe/Amsterdam:20240423T220000
DTSTAMP:20260424T015336
CREATED:20240409T144917Z
LAST-MODIFIED:20240425T075035Z
UID:6793-1713895200-1713909600@aegee-eindhoven.nl
SUMMARY:Sine Regno: AEGEElympics
DESCRIPTION:Tuesday 23rd of April 18:00\, Sine Regno Day 2!\nDo you like Sports?⚾ Or do you like a competition?🏈 Then wait no longer and apply for the AEGEElympics.🏀\nThe second day of Sine Regno will be filled with small sporting events and challenges where you can compete versus each other to see who is best. Mark & Geert their favorite game to play is table tennis🏓\, so this can’t be missed during the AEGEElympics.\nThere will be a bulkmeal beforehand for all the gymnastics. \nSignups are closed.
URL:https://aegee-eindhoven.nl/activity/sine-regno-aegeelympics/
LOCATION:Common Room\, MetaForum 0.090\, Eindhoven\, North Brabant\, Netherlands
END:VEVENT
BEGIN:VEVENT
DTSTART;VALUE=DATE:20240423
DTEND;VALUE=DATE:20240429
DTSTAMP:20260424T015336
CREATED:20240118T214815Z
LAST-MODIFIED:20240128T052849Z
UID:6470-1713830400-1714348799@aegee-eindhoven.nl
SUMMARY:Spring Agora 2024
DESCRIPTION:Brace yourselves! The highly anticipated Spring Agora returns to Novi Sad\, Serbia! \nWe’re thrilled to extend a warm invitation to you in our charming city from 23 to 28 April for Spring Agora 2024. \nImmerse yourself in the dynamic world of AI and its far-reaching impact\, guided by the theme of this Agora: “Towards a Reliable Future: AI Roadmap.” \nDelve into the profound influence of artificial intelligence on society\, individuals\, education\, work\, and ethics! \nPlunge into the core theme of Ethics\, exploring bias\, transparency\, accountability\, and responsible AI use. Join the dialogue on shaping a future where AI is ethical and responsible!
URL:https://aegee-eindhoven.nl/activity/spring-agora-2024/
LOCATION:North Brabant
CATEGORIES:Statutory
ORGANIZER;CN="AEGEE-Europe":MAILTO:headoffice@aegee.org
END:VEVENT
BEGIN:VEVENT
DTSTART;TZID=Europe/Amsterdam:20240422T180000
DTEND;TZID=Europe/Amsterdam:20240422T220000
DTSTAMP:20260424T015336
CREATED:20240409T144835Z
LAST-MODIFIED:20240422T202703Z
UID:6790-1713808800-1713823200@aegee-eindhoven.nl
SUMMARY:Sine Regno: Stickerwalk
DESCRIPTION:Monday 22nd of April 18:00\, Sine Regno Day 1!\nThe first day of the Sine Regno there will be a sticker walk🚶. In AEGEE there is the tradition to leave at least one sticker in every city.🇪🇺\nYou will get a list of challenges and discover parts of Eindhoven that you’ve never seen before. The winners will receive a fitting price🏆. Come join us on a sunny Monday with the Stickerwalk. \nThere will be a dinner beforehand in Hubble . \nSignups are closed.
URL:https://aegee-eindhoven.nl/activity/sine-regno-stickerwalk/
LOCATION:North Brabant
END:VEVENT
BEGIN:VEVENT
DTSTART;TZID=Europe/Amsterdam:20240419T210000
DTEND;TZID=Europe/Amsterdam:20240420T020000
DTSTAMP:20260424T015336
CREATED:20240118T214903Z
LAST-MODIFIED:20240418T184016Z
UID:6472-1713560400-1713578400@aegee-eindhoven.nl
SUMMARY:Nedertop Party Nijmegen
DESCRIPTION:
URL:https://aegee-eindhoven.nl/activity/nedertop-nijmegen/
LOCATION:North Brabant
CATEGORIES:Nedertop
ORGANIZER;CN="AEGEE-Nijmegen":MAILTO:board@aegee-nijmegen.nl
END:VEVENT
BEGIN:VEVENT
DTSTART;TZID=Europe/Amsterdam:20240418T123000
DTEND;TZID=Europe/Amsterdam:20240418T131500
DTSTAMP:20260424T015336
CREATED:20240418T183246Z
LAST-MODIFIED:20240418T183246Z
UID:6850-1713443400-1713446100@aegee-eindhoven.nl
SUMMARY:Tosti Lunch
DESCRIPTION:
URL:https://aegee-eindhoven.nl/activity/tosti-lunch-90/
LOCATION:Common Room\, MetaForum 0.090\, Eindhoven\, North Brabant\, Netherlands
CATEGORIES:Thursday Lunches
ORGANIZER;CN="Board":MAILTO:board@aegee-eindhoven.nl
END:VEVENT
BEGIN:VEVENT
DTSTART;TZID=Europe/Amsterdam:20240417T180000
DTEND;TZID=Europe/Amsterdam:20240417T200000
DTSTAMP:20260424T015336
CREATED:20240416T091614Z
LAST-MODIFIED:20240418T183209Z
UID:6823-1713376800-1713384000@aegee-eindhoven.nl
SUMMARY:Dinner
DESCRIPTION:Signups are closed.
URL:https://aegee-eindhoven.nl/activity/dinner-17-04/
LOCATION:North Brabant
END:VEVENT
BEGIN:VEVENT
DTSTART;TZID=Europe/Amsterdam:20240411T180000
DTEND;TZID=Europe/Amsterdam:20240411T210000
DTSTAMP:20260424T015336
CREATED:20240403T125203Z
LAST-MODIFIED:20250328T125825Z
UID:6767-1712858400-1712869200@aegee-eindhoven.nl
SUMMARY:Spring Agora Input Session
DESCRIPTION:From the 23rd to the 28th of April\, Geert Kristie and Tim will travel all the way to Serbia🇷🇸 to be AEGEE-Eindhovens delegates for the Spring Agora of the entire AEGEE Network! To properly convey the opinion of AEGEE-Eindhoven\, the board is organizing an input session where we will discuss all proposals and other relevant matters with our members. There will be a free dinner beforehand!
URL:https://aegee-eindhoven.nl/activity/spring-agora-input-session/
LOCATION:North Brabant
CATEGORIES:Statutory
END:VEVENT
BEGIN:VEVENT
DTSTART;TZID=Europe/Amsterdam:20240411T123000
DTEND;TZID=Europe/Amsterdam:20240411T131500
DTSTAMP:20260424T015336
CREATED:20240411T084848Z
LAST-MODIFIED:20240411T084848Z
UID:6807-1712838600-1712841300@aegee-eindhoven.nl
SUMMARY:Tosti Lunch
DESCRIPTION:
URL:https://aegee-eindhoven.nl/activity/tosti-lunch-89/
LOCATION:Common Room\, MetaForum 0.090\, Eindhoven\, North Brabant\, Netherlands
CATEGORIES:Thursday Lunches
ORGANIZER;CN="Board":MAILTO:board@aegee-eindhoven.nl
END:VEVENT
END:VCALENDAR