BEGIN:VCALENDAR
VERSION:2.0
PRODID:-//AEGEE-Eindhoven - ECPv6.15.20//NONSGML v1.0//EN
CALSCALE:GREGORIAN
METHOD:PUBLISH
X-ORIGINAL-URL:https://aegee-eindhoven.nl
X-WR-CALDESC:Events for AEGEE-Eindhoven
REFRESH-INTERVAL;VALUE=DURATION:PT1H
X-Robots-Tag:noindex
X-PUBLISHED-TTL:PT1H
BEGIN:VTIMEZONE
TZID:Europe/Amsterdam
BEGIN:DAYLIGHT
TZOFFSETFROM:+0100
TZOFFSETTO:+0200
TZNAME:CEST
DTSTART:20240331T010000
END:DAYLIGHT
BEGIN:STANDARD
TZOFFSETFROM:+0200
TZOFFSETTO:+0100
TZNAME:CET
DTSTART:20241027T010000
END:STANDARD
BEGIN:DAYLIGHT
TZOFFSETFROM:+0100
TZOFFSETTO:+0200
TZNAME:CEST
DTSTART:20250330T010000
END:DAYLIGHT
BEGIN:STANDARD
TZOFFSETFROM:+0200
TZOFFSETTO:+0100
TZNAME:CET
DTSTART:20251026T010000
END:STANDARD
BEGIN:DAYLIGHT
TZOFFSETFROM:+0100
TZOFFSETTO:+0200
TZNAME:CEST
DTSTART:20260329T010000
END:DAYLIGHT
BEGIN:STANDARD
TZOFFSETFROM:+0200
TZOFFSETTO:+0100
TZNAME:CET
DTSTART:20261025T010000
END:STANDARD
END:VTIMEZONE
BEGIN:VEVENT
DTSTART;TZID=Europe/Amsterdam:20250602T133000
DTEND;TZID=Europe/Amsterdam:20250602T150000
DTSTAMP:20260423T142430
CREATED:20250506T151320Z
LAST-MODIFIED:20250603T154258Z
UID:8534-1748871000-1748876400@aegee-eindhoven.nl
SUMMARY:EOT Workshop: Check your Privilege - Intersectionality 101
DESCRIPTION:In this interactive workshop\, participants will explore how privilege shapes their experiences and access to opportunities\, with a focus on socio-economic background and abilities. Through self-reflection and group dialogue\, we’ll unpack the concept of privilege and discover how it connects to intersectionality\, and empower participants to better understand themselves and advocate for inclusivity.
URL:https://aegee-eindhoven.nl/activity/eot-workshop-check-your-priviledge-intersectionality-101/
LOCATION:Markthal
CATEGORIES:Europe on Track,Workshops
END:VEVENT
BEGIN:VEVENT
DTSTART;TZID=Europe/Amsterdam:20250601T180000
DTEND;TZID=Europe/Amsterdam:20250601T200000
DTSTAMP:20260423T142430
CREATED:20250506T152751Z
LAST-MODIFIED:20250603T154237Z
UID:8541-1748800800-1748808000@aegee-eindhoven.nl
SUMMARY:EOT: European Potluck
DESCRIPTION:Let’s welcome our amazing ambassadors to Eindhoven! Bring a European dish to share and grab this chance to meet the incredible ambassadors who are raising awareness across Europe a bit more personally. We will provide some non-alcoholic drinks. \nWho are the ambassadors? : https://www.instagram.com/p/DJeWqrMIqjT/
URL:https://aegee-eindhoven.nl/activity/european-potluck-or-picknick/
LOCATION:North Brabant
CATEGORIES:Europe on Track
END:VEVENT
BEGIN:VEVENT
DTSTART;TZID=Europe/Amsterdam:20250601T150000
DTEND;TZID=Europe/Amsterdam:20250601T173000
DTSTAMP:20260423T142430
CREATED:20250523T102927Z
LAST-MODIFIED:20250527T204647Z
UID:8605-1748790000-1748799000@aegee-eindhoven.nl
SUMMARY:City Tour
DESCRIPTION:We will show the ambassadors our lovely city! We will start around 15:00\, and afterwards will go straight to the potluck. The ambassadors will do some interviews with the general public\, and we are aiming to do some vox pop interviews. \nIf you’re interested in joining the city tour (if you have anything to add\, or just for the vibes and getting to know the ambassadors)\, contact one of the organizers (Kristie\, Teddy\, Edelweiss or Agnese).
URL:https://aegee-eindhoven.nl/activity/city-tour/
LOCATION:North Brabant
CATEGORIES:Europe on Track
END:VEVENT
BEGIN:VEVENT
DTSTART;VALUE=DATE:20250529
DTEND;VALUE=DATE:20250602
DTSTAMP:20260423T142430
CREATED:20250403T112334Z
LAST-MODIFIED:20250503T172704Z
UID:8426-1748476800-1748822399@aegee-eindhoven.nl
SUMMARY:Poznań Exchange
DESCRIPTION:After our previous exchange to the beautiful Porto\, the ExchangeCie is happy to announce our Q4 exchange will be in the vibrant city of Poznań! This exchange is organised in collaboration with our friends at AEGEE-Tartu. In addition\, AEGEE-Poznan will be showing us their city and organizing fun social activities for us\, resulting in a triple exchange! We will be visiting from 29 May – 1 June. \nThe base cost covers the accomodation (apartment)\, and we have four special activities available for an additional fee – you can go canoeing for just €13\,99\, visit the splendid Juwenalia music festival for €27\, the Potato Museum for €7\, and the Croissant Museum €10\,50! \nTravel is booked by yourself\, but we will give you a document with recommended travel options when you sign up so you don’t have to figure it all out by yourself. 🚍 The travel costs are estimated to be around €125 (two-way). \nMake sure to sign up quickly and don’t miss out on this incredible adventure! ✨ \nSignups are closed.
URL:https://aegee-eindhoven.nl/activity/q4-exchange-poznan/
LOCATION:North Brabant
CATEGORIES:Exchanges
ORGANIZER;CN="Exchanges Committee":MAILTO:exchanges@aegee-eindhoven.nl
END:VEVENT
BEGIN:VEVENT
DTSTART;TZID=Europe/Amsterdam:20250528T180000
DTEND;TZID=Europe/Amsterdam:20250528T220000
DTSTAMP:20260423T142430
CREATED:20250526T125843Z
LAST-MODIFIED:20250526T134534Z
UID:8610-1748455200-1748469600@aegee-eindhoven.nl
SUMMARY:Chit Chat\, Cheers and Beers
DESCRIPTION:Come join us Wednesday 28th for a chill evening in the Common Room! \nWe will be playing board games\, gossiping and just spending some fun time with the best company and entertainment 😁\nBring some snacks to share during the evening! 🥨🍪 \nAt night some of our bravest members will take the train to Poznań\, to meet with other AEGEEans🇵🇱 Make sure to bring a handkerchief for a very emotional goodbye 😢\nAnd those of us staying in Eindhoven will instead take our bikes to Hubble\, to drown our FOMOs and celebrate the long weekend ahead! 🪐 \n🕝 Schedule\n* 18:00 Board games & chill at the CR ♟️\n* 21:00 Farewell to bobers 🦫\n– 22:00 Drinks at Hubble 🍺
URL:https://aegee-eindhoven.nl/activity/chit-chat-cheers-and-beers/
LOCATION:Common Room\, MetaForum 0.090\, Eindhoven\, North Brabant\, Netherlands
ORGANIZER;CN="Local Activities Committee":MAILTO:localactivities@aegee-eindhoven.nl
END:VEVENT
BEGIN:VEVENT
DTSTART;TZID=Europe/Amsterdam:20250522T123000
DTEND;TZID=Europe/Amsterdam:20250522T131500
DTSTAMP:20260423T142430
CREATED:20250505T133537Z
LAST-MODIFIED:20250505T133537Z
UID:8524-1747917000-1747919700@aegee-eindhoven.nl
SUMMARY:Tosti Lunch
DESCRIPTION:
URL:https://aegee-eindhoven.nl/activity/tosti-lunch-123/
LOCATION:Common Room\, MetaForum 0.090\, Eindhoven\, North Brabant\, Netherlands
CATEGORIES:Thursday Lunches
ORGANIZER;CN="Board":MAILTO:board@aegee-eindhoven.nl
END:VEVENT
BEGIN:VEVENT
DTSTART;TZID=Europe/Amsterdam:20250521T180000
DTEND;TZID=Europe/Amsterdam:20250521T210000
DTSTAMP:20260423T142430
CREATED:20250513T115358Z
LAST-MODIFIED:20250522T105612Z
UID:8544-1747850400-1747861200@aegee-eindhoven.nl
SUMMARY:Brainstorm Session: After-Intro Programme
DESCRIPTION:The IntroCie has already been working hard to make sure AEGEE-Eindhoven shines during the TU/e Introduction Week this August. But after we’ve welcomed so many lovely new faces\, we need your help! \nWe want every new member to feel right at home in our warm\, accepting\, and travel-loving community. \nSo let’s come together for a brainstorm session to create a fun\, inclusive\, and engaging After-Intro programme. Something that makes people want to stick around and get involved! \nFree Dinner and Snacks!
URL:https://aegee-eindhoven.nl/activity/brainstorm-session-after-intro-program/
LOCATION:North Brabant
ORGANIZER;CN="Intro Committee":MAILTO:intro@aegee-eindhoven.nl
END:VEVENT
BEGIN:VEVENT
DTSTART;TZID=Europe/Amsterdam:20250516T160000
DTEND;TZID=Europe/Amsterdam:20250518T120000
DTSTAMP:20260423T142430
CREATED:20250324T102557Z
LAST-MODIFIED:20250505T133848Z
UID:8371-1747411200-1747569600@aegee-eindhoven.nl
SUMMARY:Nedertop Weekend
DESCRIPTION:This spring\, another legendary Nedertopweekend is coming up. What is that? A members weekend but even more fun! All AEGEE members from the Dutch speaking locals (and surrounding areas) are welcome to participate.\nDo you want to experience the weekend of your life and make memories that you will look back on for years to come? Then put 16 to 18 May in your agenda.\nIt promises to be a weekend full of games\, party and more. Make friends for life and experience special adventures. You don’t want to miss this! \nWe will travel to beautiful Alphen\, Noord-Brabant this weekend\, will we see you there!
URL:https://aegee-eindhoven.nl/activity/nedertopweekend-25/
LOCATION:Kampeerboerderij de Kiek\, Looneind 6\, Alphen\, North Brabant\, 5131 RK\, Netherlands
CATEGORIES:Nedertop
END:VEVENT
BEGIN:VEVENT
DTSTART;TZID=Europe/Amsterdam:20250514T180000
DTEND;TZID=Europe/Amsterdam:20250514T220000
DTSTAMP:20260423T142430
CREATED:20250504T173008Z
LAST-MODIFIED:20250515T182227Z
UID:8512-1747245600-1747260000@aegee-eindhoven.nl
SUMMARY:EPIC Fundraiser Bingo Night
DESCRIPTION:As you may know\, last Monday there was a massive blackout for several hours affecting all the Iberian peninsula\, causing havoc and completely disrupting the lives of millions of people. Especially alarming was the situation of grandmas in Porto\, who had to spend a whole evening without their favorite pastime: playing bingo. In solidarity with them\, the LAC is organizing an epic fundraiser Bingo Night!! \n“But I am not a grandma\, how am I supposed to endure a whole evening playing bingo??”\nDon’t worry youngster\, we’ve got you covered. We are not gonna be playing boring regular bingo\, but our own AEGEE version\, with different themes\, challenges and team strategies. \n🕜 Schedule: \n\n18:30: Dinner at the CR\n19:30: Bingo Time\n21:00: Board games and chill\n22:00: Hubble\n\n🪙 Price:\n10€ per person\, including dinner\, snacks and any possible prizes.\nBesides having lots of fun\, this activity will serve to raise funds! Since there is no direct fundraiser for the blackout (that we know of)\, we will donate all profits to United24\, supporting the war effort in Ukraine(*). \nSo\, bring your best grandma energy! \n(*) The Ukrainian government (that seem to have quite a bit of experience dealing with blackouts…) quickly offered to help Spain and Portugal\, evidently concerned about the well-being of all bingo-playing grandmas <3. So this donation will be our “thank you”.
URL:https://aegee-eindhoven.nl/activity/epic-fundraiser-bingo-night/
LOCATION:Common Room\, MetaForum 0.090\, Eindhoven\, North Brabant\, Netherlands
ORGANIZER;CN="Local Activities Committee":MAILTO:localactivities@aegee-eindhoven.nl
END:VEVENT
BEGIN:VEVENT
DTSTART;TZID=Europe/Amsterdam:20250507T210000
DTEND;TZID=Europe/Amsterdam:20250507T210000
DTSTAMP:20260423T142430
CREATED:20250417T130550Z
LAST-MODIFIED:20250504T173847Z
UID:8490-1746651600-1746651600@aegee-eindhoven.nl
SUMMARY:Borrelhop to AEGEE-Nijmegen
DESCRIPTION:🚴‍♂️ Biro d’Italia – Wednesday 7 May\, 21.00 – max €15 🍻 \nPut on your racing cap and leave your sports drink\, because BaCo presents: Biro d’Italia – an evening of cycling fun without the sweating\, but with lots of beer! 🍻 \nCycle along through a drink full of stages:\nSome tough as a mountain stage\, others as smooth as a downhill with a tailwind. One stage = one beer. So believe us: this is not a night for wimps or waterers 😅 \n🏁 But take note: each rider gets a personal rule with a corresponding consequence. Whether you have to drink with one hand or shout ‘Forza!’ every five minutes – you never know what’s in store for you 👀 \n💡 Are 16 stages a bit much for you? No worries\, with playful games and crafty tasks you can skip a few 🎲 Beware! Doping is not allowed 🚫💊 \nSo… does this sound like music to your ears (or a bell to a racing bike)? Put it in your diary and kick it off with us! 🚴‍♀ \nsign up form from Nijmegen: \nhttps://forms.gle/iYQM7mmAApnnyRDFA
URL:https://aegee-eindhoven.nl/activity/borrelhop-to-a-nijmegen/
LOCATION:Villa van Schaeck\, Van Schaeck Mathonsingel 10\, Nijmegen\, Gelderland\, 6512 AP\, Netherlands
END:VEVENT
BEGIN:VEVENT
DTSTART;TZID=Europe/Amsterdam:20250501T123000
DTEND;TZID=Europe/Amsterdam:20250501T131500
DTSTAMP:20260423T142430
CREATED:20250501T090236Z
LAST-MODIFIED:20250501T090236Z
UID:8506-1746102600-1746105300@aegee-eindhoven.nl
SUMMARY:Tosti Lunch
DESCRIPTION:
URL:https://aegee-eindhoven.nl/activity/tosti-lunch-121/
LOCATION:Common Room\, MetaForum 0.090\, Eindhoven\, North Brabant\, Netherlands
CATEGORIES:Thursday Lunches
ORGANIZER;CN="Board":MAILTO:board@aegee-eindhoven.nl
END:VEVENT
BEGIN:VEVENT
DTSTART;TZID=Europe/Amsterdam:20250430T180000
DTEND;TZID=Europe/Amsterdam:20250430T220000
DTSTAMP:20260423T142430
CREATED:20250417T130332Z
LAST-MODIFIED:20250428T235827Z
UID:8488-1746036000-1746050400@aegee-eindhoven.nl
SUMMARY:Battle of the Rooms
DESCRIPTION:Dear community members — AEGEE\, Cosmos\, or Confluente\, whoever you may be\, we call upon you!\nIt’s that time of the year when the Battle of the Rooms commences! \nJoin us on 30 April in the Common Room to participate in a set of challenges together with your fellow association members!\nTogether we will compete this year in: \n🧠🏓 Brain Pong (Beer Pong but with trivia!)\n🪑❄ Chair Curling (longest chair throw wins the match!)\n🏹🛡 Archery Tag (obstacle-riddled archery match between the associations!)\n🎮🏁 Mario Kart Tournament (fasten your seatbelts!) \n🍽 Dinner is also included! \nDon’t miss out — it’s gonna be legendary! \nhttps://pretix.cosmostue.nl/cosmos/botr2025/
URL:https://aegee-eindhoven.nl/activity/battle-of-the-rooms-botr/
LOCATION:Common Room\, MetaForum 0.090\, Eindhoven\, North Brabant\, Netherlands
END:VEVENT
BEGIN:VEVENT
DTSTART;VALUE=DATE:20250422
DTEND;VALUE=DATE:20250428
DTSTAMP:20260423T142430
CREATED:20241103T220426Z
LAST-MODIFIED:20250126T141503Z
UID:7904-1745280000-1745798399@aegee-eindhoven.nl
SUMMARY:Spring Agora 2025
DESCRIPTION:From 22 April to 27 April\, join us in the heart of the Basque Country for an inspiring Agora experience. \nThis year\, we’re proud to present the theme: “Bridging the Gap”. Get ready for inspiring and meaningful discussions and hands-on workshops as we explore the challenges and opportunities in building a more equal and inclusive society. Join us in shaping a future where gender equality is not just a goal but a reality\, creating lasting change across Europe and beyond! \nBeyond the sessions\, discover the vibrant culture of Bilbao! From its world-famous gastronomy to its rich history\, and an exciting social program\, the city is ready to welcome you with open arms.
URL:https://aegee-eindhoven.nl/activity/spring-agora-2025/
LOCATION:North Brabant
CATEGORIES:Statutory
ORGANIZER;CN="AEGEE-Bilbao":MAILTO:aegee-bilbao@aegee.eu
END:VEVENT
BEGIN:VEVENT
DTSTART;TZID=Europe/Amsterdam:20250417T193000
DTEND;TZID=Europe/Amsterdam:20250417T220000
DTSTAMP:20260423T142430
CREATED:20250403T091927Z
LAST-MODIFIED:20250419T234913Z
UID:8409-1744918200-1744927200@aegee-eindhoven.nl
SUMMARY:Mojito Cocktail Night
DESCRIPTION:Ladies and gentlemen\, the wait is over and time has come for the next Mojito Night. \nAt 22:00 we will go to Hubble\, and around 00:00 we’ll head to Stratum to finish an epic night in an epic way. \nSo come celebrate the end of exams\, or charge up before the Agora\, and bring your friends along for a crazy fun night of activities and unlimited drinks (until supplies last). \nWe will also have non-alcoholic mojitos and other surprises. \nPrices: \n\n€9 for AEGEE-Eindhoven members\n€10 for non-members\n€5 (members) / €6 (non-members) for those who only want non-alcoholic drinks\n\nThere will be no dinner before\, but we will have some snacks during the night\, and side activities to keep the fun rolling.
URL:https://aegee-eindhoven.nl/activity/mojito-cocktail-night/
LOCATION:Common Room\, MetaForum 0.090\, Eindhoven\, North Brabant\, Netherlands
ORGANIZER;CN="Local Activities Committee":MAILTO:localactivities@aegee-eindhoven.nl
END:VEVENT
BEGIN:VEVENT
DTSTART;TZID=Europe/Amsterdam:20250411T180000
DTEND;TZID=Europe/Amsterdam:20250411T213000
DTSTAMP:20260423T142430
CREATED:20250328T125803Z
LAST-MODIFIED:20250412T174058Z
UID:8383-1744394400-1744407000@aegee-eindhoven.nl
SUMMARY:Spring Agora Input Session
DESCRIPTION:From the 22 to 27 April\, Tim\, Mark and Annika will travel all the way to Bilbao to be AEGEE-Eindhoven’s delegates for the Spring Agora of the entire AEGEE Network! To properly convey the opinion of AEGEE-Eindhoven\, the delegates are organising an input session where we will discuss all proposals and other relevant matters with our members. There will be a free dinner beforehand! \nDinner starts at 18:00 in the Common Room\, the Input Session will start at 18:30 in MF 4.
URL:https://aegee-eindhoven.nl/activity/spring-agora-input-session-25/
LOCATION:Common Room\, MetaForum 0.090\, Eindhoven\, North Brabant\, Netherlands
CATEGORIES:Statutory
END:VEVENT
BEGIN:VEVENT
DTSTART;TZID=Europe/Amsterdam:20250409T183000
DTEND;TZID=Europe/Amsterdam:20250409T220000
DTSTAMP:20260423T142430
CREATED:20250408T084321Z
LAST-MODIFIED:20250409T183003Z
UID:8450-1744223400-1744236000@aegee-eindhoven.nl
SUMMARY:Board Game Night
DESCRIPTION:Bored after studying all day? Don’t have the energy to go over the slides you have left from the presentation you’re ignoring right now? Or maybe\, are you just a great procrastinator? \nEither way join us this Wednesday to chill a bit\, relax your mind a have a good laugh!!! We will be playing some board/card games and reviving the social life that exam week tries to kill. \nWe don’t have a dinner\, but bring snacks and your own drinks if you want to!
URL:https://aegee-eindhoven.nl/activity/activity-boardgame-night/
LOCATION:Common Room\, MetaForum 0.090\, Eindhoven\, North Brabant\, Netherlands
ORGANIZER;CN="Local Activities Committee":MAILTO:localactivities@aegee-eindhoven.nl
END:VEVENT
BEGIN:VEVENT
DTSTART;TZID=Europe/Amsterdam:20250403T123000
DTEND;TZID=Europe/Amsterdam:20250403T131500
DTSTAMP:20260423T142430
CREATED:20250213T134530Z
LAST-MODIFIED:20250213T134530Z
UID:8188-1743683400-1743686100@aegee-eindhoven.nl
SUMMARY:Tosti Lunch
DESCRIPTION:
URL:https://aegee-eindhoven.nl/activity/tosti-lunch-120/
LOCATION:Common Room\, MetaForum 0.090\, Eindhoven\, North Brabant\, Netherlands
CATEGORIES:Thursday Lunches
ORGANIZER;CN="Board":MAILTO:board@aegee-eindhoven.nl
END:VEVENT
BEGIN:VEVENT
DTSTART;TZID=Europe/Amsterdam:20250402T180000
DTEND;TZID=Europe/Amsterdam:20250402T180000
DTSTAMP:20260423T142430
CREATED:20250313T215855Z
LAST-MODIFIED:20250408T122911Z
UID:8349-1743616800-1743616800@aegee-eindhoven.nl
SUMMARY:Pubquiz with Cosmos
DESCRIPTION:🚀 Join COSMOS and AEGEE-Eindhoven for a fun-tastic night of beer and pub quizzes! Together\, we’ll journey through different quiz categories\, ranging from international subjects like customs\, traditions\, and countries\, all the way to pop culture and other funny and unexpected topics! \nCompete with your friends (or fellow participants) in groups of five and try to score the most points to win a prize! 🎉 \n🍽 18:00 – Come to the Common Room and enjoy a delicious dinner cooked by us!\n🍺 19:30 onwards – We’ll head to Hubble\, grab some beers\, and start the pub quiz!\n⏳ Expected finish time: 00:00
URL:https://aegee-eindhoven.nl/activity/pubquiz-with-cosmos-2/
LOCATION:Hubble Community Café\, De Lampendriessen 31-05\, Eindhoven\, North Brabant\, 5612 AH\, Netherlands
ORGANIZER;CN="Board":MAILTO:board@aegee-eindhoven.nl
END:VEVENT
BEGIN:VEVENT
DTSTART;TZID=Europe/Amsterdam:20250327T123000
DTEND;TZID=Europe/Amsterdam:20250327T131500
DTSTAMP:20260423T142430
CREATED:20250213T134227Z
LAST-MODIFIED:20250213T134442Z
UID:8184-1743078600-1743081300@aegee-eindhoven.nl
SUMMARY:Tosti Lunch
DESCRIPTION:
URL:https://aegee-eindhoven.nl/activity/tosti-lunch-118/
LOCATION:Common Room\, MetaForum 0.090\, Eindhoven\, North Brabant\, Netherlands
CATEGORIES:Thursday Lunches
ORGANIZER;CN="Board":MAILTO:board@aegee-eindhoven.nl
END:VEVENT
BEGIN:VEVENT
DTSTART;TZID=Europe/Amsterdam:20250326T180000
DTEND;TZID=Europe/Amsterdam:20250326T210000
DTSTAMP:20260423T142430
CREATED:20250313T215733Z
LAST-MODIFIED:20250327T225457Z
UID:8346-1743012000-1743022800@aegee-eindhoven.nl
SUMMARY:Summer University Smash or Pass by LAC
DESCRIPTION:The Local Activities Committee invites you to Summer University Smash or Pass! \nEvery summer\, many different AEGEE locals organize 1-2 week trips in their city/region. They are very cheap\, often ~200€ for accommodation + meals\, and offer unique experiences with activities to get to know a city through the eyes of local students. You will bond with your fellow Summer University participants (groups of ~20) and make friendships for life! \nDuring this event we will introduce you to the Summer Universities happening this summer! \n18:00 Dinner\n19:00 SU info presentation\n19:30 SU Smash or Pass
URL:https://aegee-eindhoven.nl/activity/summer-university-speed-dating-by-lac/
LOCATION:Common Room\, MetaForum 0.090\, Eindhoven\, North Brabant\, Netherlands
ORGANIZER;CN="Local Activities Committee":MAILTO:localactivities@aegee-eindhoven.nl
END:VEVENT
BEGIN:VEVENT
DTSTART;TZID=Europe/Amsterdam:20250325T180000
DTEND;TZID=Europe/Amsterdam:20250325T210000
DTSTAMP:20260423T142430
CREATED:20250313T211837Z
LAST-MODIFIED:20250318T105441Z
UID:8335-1742925600-1742936400@aegee-eindhoven.nl
SUMMARY:Local Agora March 2025
DESCRIPTION:On 25-03-2025\, the third Local Agora(-Eindhoven) of this board-year will take place. This meeting will take place physically at the TU/e\, it will start at 18:00. \nMore info in your mailbox!
URL:https://aegee-eindhoven.nl/activity/local-agora-march-2025/
LOCATION:North Brabant
CATEGORIES:Statutory
ORGANIZER;CN="Board":MAILTO:board@aegee-eindhoven.nl
END:VEVENT
BEGIN:VEVENT
DTSTART;TZID=Europe/Amsterdam:20250320T123000
DTEND;TZID=Europe/Amsterdam:20250320T133000
DTSTAMP:20260423T142430
CREATED:20250213T134306Z
LAST-MODIFIED:20250319T210259Z
UID:8186-1742473800-1742477400@aegee-eindhoven.nl
SUMMARY:Tosti Lunch
DESCRIPTION:
URL:https://aegee-eindhoven.nl/activity/tosti-lunch-119/
LOCATION:Common Room\, MetaForum 0.090\, Eindhoven\, North Brabant\, Netherlands
CATEGORIES:Thursday Lunches
ORGANIZER;CN="Board":MAILTO:board@aegee-eindhoven.nl
END:VEVENT
BEGIN:VEVENT
DTSTART;TZID=Europe/Amsterdam:20250319T180000
DTEND;TZID=Europe/Amsterdam:20250319T220000
DTSTAMP:20260423T142430
CREATED:20250313T214523Z
LAST-MODIFIED:20250614T161600Z
UID:8338-1742407200-1742421600@aegee-eindhoven.nl
SUMMARY:Dinner and Movie Night
DESCRIPTION:Bring your own snacks for the movie! We will vote on which movie to watch.
URL:https://aegee-eindhoven.nl/activity/dinner-movienight/
LOCATION:Common Room\, MetaForum 0.090\, Eindhoven\, North Brabant\, Netherlands
END:VEVENT
BEGIN:VEVENT
DTSTART;TZID=Europe/Amsterdam:20250314T210000
DTEND;TZID=Europe/Amsterdam:20250314T233000
DTSTAMP:20260423T142430
CREATED:20250220T190130Z
LAST-MODIFIED:20250812T144705Z
UID:8231-1741986000-1741995000@aegee-eindhoven.nl
SUMMARY:Nedertop Delft: Movie Stars
DESCRIPTION:AEGEE-Delft has invited us for the third Nedertop party of the year! \nAEGEE-Delft welcome you all in Delft on Friday 14 March for the Nedertop party😍. This time with a movie star theme🎬🎭 \nDress up in the assigned theme by A-Delft and have fun discovering other A-local costumes! \nAmsterdam: Horror 🧟‍♀️\nEnschede: Childhood Movies 🏰\nGroningen: Dystopian 🕴️\nDelft-Noord: Christmas Movies 🎄\nBrussel/Bruxelles and Aachen: Action 🔫\nMaastricht: Romance 💕\nNijmegen: Historic 🪖\nEindhoven: Science Fiction 🚀\nCD/NetCom/NJR: Western 🤠\nUtrecht: Fantasy 🧙‍♂️\nDelft: Superheroes 🦸‍♀️\nRotterdam: Crime 💰\nTilburg: Sports 🏌️ \nIt’s a great opportunity to meet other AEGEEans from different cities\, but mostly to have fun! 🤩 \n 
URL:https://aegee-eindhoven.nl/activity/nedertop-delft-movie-stars/
LOCATION:Broeder Lazarus\, Molslaan 104\, Delft\, Zuid-Holland\, Netherlands
CATEGORIES:Nedertop
ORGANIZER;CN="AEGEE-Delft":MAILTO:board@aegee-delft.nl
END:VEVENT
BEGIN:VEVENT
DTSTART;TZID=Europe/Amsterdam:20250313T123000
DTEND;TZID=Europe/Amsterdam:20250313T131500
DTSTAMP:20260423T142430
CREATED:20250213T134126Z
LAST-MODIFIED:20250213T134126Z
UID:8182-1741869000-1741871700@aegee-eindhoven.nl
SUMMARY:Tosti Lunch
DESCRIPTION:
URL:https://aegee-eindhoven.nl/activity/tosti-lunch-117/
LOCATION:Common Room\, MetaForum 0.090\, Eindhoven\, North Brabant\, Netherlands
CATEGORIES:Thursday Lunches
ORGANIZER;CN="Board":MAILTO:board@aegee-eindhoven.nl
END:VEVENT
BEGIN:VEVENT
DTSTART;TZID=Europe/Amsterdam:20250312T173000
DTEND;TZID=Europe/Amsterdam:20250312T220000
DTSTAMP:20260423T142430
CREATED:20250305T120218Z
LAST-MODIFIED:20250315T194700Z
UID:8319-1741800600-1741816800@aegee-eindhoven.nl
SUMMARY:Pierogi Workshop
DESCRIPTION:Would you like to participate in making your own Pierogies?\nDo you enjoy cooking and want to learn a new recipe?\nOr maybe just want to eat and enjoy a good time?\nIf yes\, join this event. \nPierogi is classic dish. It is very simple to make and traditionally made in a group. \nChoose your flavour:\nWe’ve got 5 vegetarian fillings (with vegan options) to suit all tastes:\n🌿 Spinach\n🧀 Cottage Cheese\n🥔 Cottage Cheese & Potato\n🍓 Strawberry\n🍄 Cabbage & Mushrooms \nDue to limited space in the Common Room\, the number of possible cooking participants is limited. You can still join for eating and a good time. \nSchedule: \n\n17:30 Gather in the Common Room\n18:00 Cooking starts\, but you are welcome to help with preparations before 18:00\n20:00 Eating our beautiful creations\n22:00 Hang out at Hubble
URL:https://aegee-eindhoven.nl/activity/pierogi-workshop/
LOCATION:Common Room\, MetaForum 0.090\, Eindhoven\, North Brabant\, Netherlands
END:VEVENT
BEGIN:VEVENT
DTSTART;TZID=Europe/Amsterdam:20250306T123000
DTEND;TZID=Europe/Amsterdam:20250306T131500
DTSTAMP:20260423T142430
CREATED:20250213T134047Z
LAST-MODIFIED:20250213T134047Z
UID:8180-1741264200-1741266900@aegee-eindhoven.nl
SUMMARY:Tosti Lunch
DESCRIPTION:
URL:https://aegee-eindhoven.nl/activity/tosti-lunch-116/
LOCATION:Common Room\, MetaForum 0.090\, Eindhoven\, North Brabant\, Netherlands
CATEGORIES:Thursday Lunches
ORGANIZER;CN="Board":MAILTO:board@aegee-eindhoven.nl
END:VEVENT
BEGIN:VEVENT
DTSTART;VALUE=DATE:20250301
DTEND;VALUE=DATE:20250302
DTSTAMP:20260423T142430
CREATED:20250220T191758Z
LAST-MODIFIED:20250301T164959Z
UID:8242-1740787200-1740873599@aegee-eindhoven.nl
SUMMARY:Home Exchange: Carnaval with AEGEE-Eindhoven
DESCRIPTION:Get ready for a full day of Carnaval madness! Whether you’re a seasoned partygoer or new to this Dutch tradition\, join us for a day packed with food\, fun\, and festivities! \n\n12:15-13:00 – Kick off with a tosti lunch in the Common Room 🧀🥪\n13:00 – Head out to watch the Carnaval Parade 🎭🎺\nAfternoon – Free time to explore\, rest\, or get into the Carnaval spirit! 🎉\n18:00 – Fuelling up with a Kapsalon dinner in CR (provided only to A-Tartu\, but you’re welcome to join with your own)🍟🥩🧀\n19:00 – Pre-drinks in the Common Room 🍻\nLate evening – Hit Stratumseind in full Carnaval costume! 🎭✨\n\nDon’t miss out on this epic day of Dutch culture\, great food\, and unforgettable partying. See you there in your best costume! 🎊🎶 \n 
URL:https://aegee-eindhoven.nl/activity/carnavalling-with-a-eindhoven-a-tartu/
LOCATION:Common Room\, MetaForum 0.090\, Eindhoven\, North Brabant\, Netherlands
CATEGORIES:Home Exchanges
END:VEVENT
BEGIN:VEVENT
DTSTART;TZID=Europe/Amsterdam:20250228T180000
DTEND;TZID=Europe/Amsterdam:20250228T220000
DTSTAMP:20260423T142430
CREATED:20250220T191057Z
LAST-MODIFIED:20250301T164941Z
UID:8226-1740765600-1740780000@aegee-eindhoven.nl
SUMMARY:Home Exchange: European Potluck Dinner
DESCRIPTION:✨ What’s the plan? ✨ \n\nCook in teams of 2-3 people for a country that you would like to represent!\nBYOD: Bring Your Own Drinks—let’s toast with drinks from all of Europe!\n\nWe hope to see many of you there! 🥳 \nP.S . Don’t worry if you are not a MasterChef! This is all about having fun together\, so feel free to team up with others and lend a hand however you can! 😊
URL:https://aegee-eindhoven.nl/activity/european-potluck-dinner/
LOCATION:Common Room\, MetaForum 0.090\, Eindhoven\, North Brabant\, Netherlands
CATEGORIES:Home Exchanges
ORGANIZER;CN="Board":MAILTO:board@aegee-eindhoven.nl
END:VEVENT
BEGIN:VEVENT
DTSTART;TZID=Europe/Amsterdam:20250228T100000
DTEND;TZID=Europe/Amsterdam:20250228T160000
DTSTAMP:20260423T142430
CREATED:20250220T193407Z
LAST-MODIFIED:20250301T164926Z
UID:8250-1740736800-1740758400@aegee-eindhoven.nl
SUMMARY:Home Exchange: Nature Walk - Kroketten Lunch - Dutch Language Workshop
DESCRIPTION:AEGEE-Tartu Cultural Day \nJoin us for a day of nature\, Dutch food\, and language fun! As an AEGEE member\, you can join any (or all!) activities: \n\n09:45-13:00 – Nature Walk A refreshing morning stroll!\n13:00-14:00 – Kroketten Lunch Did you know the Dutch eat 300 million kroketten per year? That’s 18 per person!\n14:00-16:00 – Language Workshop Learn useful Dutch phrases!\n\nCome for one event or stay all day – see you there!
URL:https://aegee-eindhoven.nl/activity/nature-walk-kroketten-lunch-dutch-language-workshop/
LOCATION:Common Room\, MetaForum 0.090\, Eindhoven\, North Brabant\, Netherlands
CATEGORIES:Home Exchanges
END:VEVENT
END:VCALENDAR