BEGIN:VCALENDAR
VERSION:2.0
PRODID:-//AEGEE-Eindhoven - ECPv6.15.20//NONSGML v1.0//EN
CALSCALE:GREGORIAN
METHOD:PUBLISH
X-WR-CALNAME:AEGEE-Eindhoven
X-ORIGINAL-URL:https://aegee-eindhoven.nl/nl
X-WR-CALDESC:Evenementen voor AEGEE-Eindhoven
REFRESH-INTERVAL;VALUE=DURATION:PT1H
X-Robots-Tag:noindex
X-PUBLISHED-TTL:PT1H
BEGIN:VTIMEZONE
TZID:Europe/Amsterdam
BEGIN:DAYLIGHT
TZOFFSETFROM:+0100
TZOFFSETTO:+0200
TZNAME:CEST
DTSTART:20250330T010000
END:DAYLIGHT
BEGIN:STANDARD
TZOFFSETFROM:+0200
TZOFFSETTO:+0100
TZNAME:CET
DTSTART:20251026T010000
END:STANDARD
BEGIN:DAYLIGHT
TZOFFSETFROM:+0100
TZOFFSETTO:+0200
TZNAME:CEST
DTSTART:20260329T010000
END:DAYLIGHT
BEGIN:STANDARD
TZOFFSETFROM:+0200
TZOFFSETTO:+0100
TZNAME:CET
DTSTART:20261025T010000
END:STANDARD
BEGIN:DAYLIGHT
TZOFFSETFROM:+0100
TZOFFSETTO:+0200
TZNAME:CEST
DTSTART:20270328T010000
END:DAYLIGHT
BEGIN:STANDARD
TZOFFSETFROM:+0200
TZOFFSETTO:+0100
TZNAME:CET
DTSTART:20271031T010000
END:STANDARD
END:VTIMEZONE
BEGIN:VEVENT
DTSTART;TZID=Europe/Amsterdam:20260422T180000
DTEND;TZID=Europe/Amsterdam:20260422T220000
DTSTAMP:20260423T030120
CREATED:20260403T203048Z
LAST-MODIFIED:20260407T111616Z
UID:10057-1776880800-1776895200@aegee-eindhoven.nl
SUMMARY:Embroidery Workshop
DESCRIPTION:Learn how to give new live to your old clothes by changing their vibes completely. \nSchakel JavaScript in je browser in om dit formulier in te vullen.Name *VoornaamAchternaamPhone *EmailNOT REQUIRED - Only fill this in if you want a confirmationI am a: *MemberInteresteeI would like a buddy at this activity: *\n				\n					\n					\n				\n				\n				Yes\n			\n				\n					\n					\n				\n				\n				No\n			We understand that it might be scary to join a new association! Would like to get a 'buddy' assigned to you during this activity? They can help you meet more members and answer any questions you might have!I want to participate in: *Dinner (€±3)Dinner x2 (€±4)*Workshop (€±3)* Bring a friend discount\, if you bring a non-member you will both get a discount on the meal. Only one of you needs to sign up.		\n			buddy for a:\n			\n		\n		Name of the Friend *VoornaamAchternaamDietary RestrictionsGDPR Agreement for Personal information *I consent to having this website store my submitted information for the purpose of registering payments and measuring attendance and allow for this information to be stored for two weeks after payment has been received or\, when free\, for two weeks after the event has passed.GDPR Agreement for Media *I agree that any photos or videos made at this event may be used for promotional purposes by AEGEE-Eindhoven indefinitely.Payment Obligation *I acknowledge and agree that I am required to pay the above stated amount for this event\, even when I do not attend but do not cancel at least 12 hours before the event.Submit
URL:https://aegee-eindhoven.nl/nl/activity/embroidery-workshop/
LOCATION:Common Room\, MetaForum 0.090\, Eindhoven\, North Brabant\, Netherlands
CATEGORIES:Workshops
END:VEVENT
BEGIN:VEVENT
DTSTART;TZID=Europe/Amsterdam:20260419T120000
DTEND;TZID=Europe/Amsterdam:20260419T200000
DTSTAMP:20260423T030120
CREATED:20260403T201201Z
LAST-MODIFIED:20260407T085553Z
UID:10049-1776600000-1776628800@aegee-eindhoven.nl
SUMMARY:Tulip Trip
DESCRIPTION:Do you want to cycle through tulip fields? Do you like stroopwafels and windmills? Do you like the Netherlands (optional)? \nThen we’ve got the trip for you!\nJoin us on 18 April in Lisse\, a town near Leiden to have the most Dutch experience of your life! No need to sign up\, just join the group chat and join us!\nGroup chat: https://chat.whatsapp.com/C9VcMbiS9EVDtRrkCYh8UU
URL:https://aegee-eindhoven.nl/nl/activity/tulip-trip/
CATEGORIES:Daytrip
END:VEVENT
BEGIN:VEVENT
DTSTART;TZID=Europe/Amsterdam:20260415T180000
DTEND;TZID=Europe/Amsterdam:20260415T220000
DTSTAMP:20260423T030120
CREATED:20260403T200828Z
LAST-MODIFIED:20260418T160846Z
UID:10047-1776276000-1776290400@aegee-eindhoven.nl
SUMMARY:Stroopwafel Workshop
DESCRIPTION:Learn how to make this Dutch special and enjoy your creation in a great AEGEE vibe.
URL:https://aegee-eindhoven.nl/nl/activity/stroopwafel-workshop/
LOCATION:Common Room\, MetaForum 0.090\, Eindhoven\, North Brabant\, Netherlands
CATEGORIES:Workshops
END:VEVENT
BEGIN:VEVENT
DTSTART;TZID=Europe/Amsterdam:20260408T180000
DTEND;TZID=Europe/Amsterdam:20260408T220000
DTSTAMP:20260423T030120
CREATED:20260402T183652Z
LAST-MODIFIED:20260418T160850Z
UID:10013-1775671200-1775685600@aegee-eindhoven.nl
SUMMARY:Movie Night
DESCRIPTION:Take a break from studying and join us for a cozy Movie Night filled with good vibes\, snacks\, and great company. Whether you’re in the mood to unwind\, laugh\, or just hang out with friends\, this is the perfect mid‑exam week escape.\nBring your friends\, grab some popcorn\, and settle in for a chill night together. \nYou get to choose the movie!\nWe’ll have a shortlist of options ready\, and participants will vote at the start of the event.\nGot a movie in mind? Send your suggestion to Rafał!
URL:https://aegee-eindhoven.nl/nl/activity/movie-night-3/
LOCATION:Common Room\, MetaForum 0.090\, Eindhoven\, North Brabant\, Netherlands
ORGANIZER;CN="Local Activities Committee":MAILTO:localactivities@aegee-eindhoven.nl
END:VEVENT
BEGIN:VEVENT
DTSTART;TZID=Europe/Amsterdam:20260402T123000
DTEND;TZID=Europe/Amsterdam:20260402T131500
DTSTAMP:20260423T030120
CREATED:20260217T132345Z
LAST-MODIFIED:20260217T132345Z
UID:9827-1775133000-1775135700@aegee-eindhoven.nl
SUMMARY:Tosti Lunch
DESCRIPTION:
URL:https://aegee-eindhoven.nl/nl/activity/tosti-lunch-146/
LOCATION:Common Room\, MetaForum 0.090\, Eindhoven\, North Brabant\, Netherlands
CATEGORIES:Thursday Lunches
ORGANIZER;CN="Board":MAILTO:board@aegee-eindhoven.nl
END:VEVENT
BEGIN:VEVENT
DTSTART;TZID=Europe/Amsterdam:20260401T180000
DTEND;TZID=Europe/Amsterdam:20260401T220000
DTSTAMP:20260423T030120
CREATED:20260326T190841Z
LAST-MODIFIED:20260418T160859Z
UID:9962-1775066400-1775080800@aegee-eindhoven.nl
SUMMARY:Pick your Summer University!
DESCRIPTION:Summer Universities are out 👀\nGet ready for the best summer of your life ☀️ Spend 10 days somewhere in Europe for the cheapest price\, nonstop fun\, and make friendships that will last a lifetime!\nDifferent countries\, different vibes\, one choice. Still in doubt? Join us next Wednesday and you’ll be convinced!\nJoin us for a chill and useful evening where you’ll learn everything you need to know about SUs\, explore this year’s options and leave eager to apply to one.\nNo long presentations\, no pressure. Just good vibes\, honest recommendations\, and a bit of chaos. \nPS: Don’t be confused by the “university” name. SUs are all about travelling\, exploring new places\, and having fun! No studying involved.
URL:https://aegee-eindhoven.nl/nl/activity/9962/
LOCATION:Common Room\, MetaForum 0.090\, Eindhoven\, North Brabant\, Netherlands
CATEGORIES:Workshops
ORGANIZER;CN="Local Activities Committee":MAILTO:localactivities@aegee-eindhoven.nl
END:VEVENT
BEGIN:VEVENT
DTSTART;TZID=Europe/Amsterdam:20260326T123000
DTEND;TZID=Europe/Amsterdam:20260326T131500
DTSTAMP:20260423T030120
CREATED:20260217T132237Z
LAST-MODIFIED:20260217T132237Z
UID:9825-1774528200-1774530900@aegee-eindhoven.nl
SUMMARY:Tosti Lunch
DESCRIPTION:
URL:https://aegee-eindhoven.nl/nl/activity/tosti-lunch-145/
LOCATION:Common Room\, MetaForum 0.090\, Eindhoven\, North Brabant\, Netherlands
CATEGORIES:Thursday Lunches
ORGANIZER;CN="Board":MAILTO:board@aegee-eindhoven.nl
END:VEVENT
BEGIN:VEVENT
DTSTART;TZID=Europe/Amsterdam:20260325T180000
DTEND;TZID=Europe/Amsterdam:20260325T220000
DTSTAMP:20260423T030120
CREATED:20260303T100432Z
LAST-MODIFIED:20260418T160917Z
UID:9870-1774461600-1774476000@aegee-eindhoven.nl
SUMMARY:Board Interest Dinner
DESCRIPTION:Free board interestee dinner!\nAre you curious what its like do to a board year? Want to take a look behind the scenes? Are you even already a bit interested in possibly doing a board year? \nIf you answered yes to any of these questions\, then join our free board interestee dinner where we will tell you all about doing a board year and answer all the questions you might have!
URL:https://aegee-eindhoven.nl/nl/activity/board-interest-dinner-4/
LOCATION:Common Room\, MetaForum 0.090\, Eindhoven\, North Brabant\, Netherlands
ORGANIZER;CN="Board":MAILTO:board@aegee-eindhoven.nl
END:VEVENT
BEGIN:VEVENT
DTSTART;TZID=Europe/Amsterdam:20260323T173000
DTEND;TZID=Europe/Amsterdam:20260323T220000
DTSTAMP:20260423T030120
CREATED:20260316T153220Z
LAST-MODIFIED:20260317T121044Z
UID:9930-1774287000-1774303200@aegee-eindhoven.nl
SUMMARY:Local Agora March 2026
DESCRIPTION:
URL:https://aegee-eindhoven.nl/nl/activity/local-agora-march-2026/
LOCATION:Common Room\, MetaForum 0.090\, Eindhoven\, North Brabant\, Netherlands
CATEGORIES:Statutory
ORGANIZER;CN="Board":MAILTO:board@aegee-eindhoven.nl
END:VEVENT
BEGIN:VEVENT
DTSTART;TZID=Europe/Amsterdam:20260322T110000
DTEND;TZID=Europe/Amsterdam:20260322T220000
DTSTAMP:20260423T030120
CREATED:20260310T130132Z
LAST-MODIFIED:20260324T172114Z
UID:9909-1774177200-1774216800@aegee-eindhoven.nl
SUMMARY:Rotterdam Daytrip
DESCRIPTION:
URL:https://aegee-eindhoven.nl/nl/activity/daytrip-to-rotterdam/
CATEGORIES:Daytrip
END:VEVENT
BEGIN:VEVENT
DTSTART;TZID=Europe/Amsterdam:20260319T123000
DTEND;TZID=Europe/Amsterdam:20260319T131500
DTSTAMP:20260423T030120
CREATED:20260217T132202Z
LAST-MODIFIED:20260217T132202Z
UID:9823-1773923400-1773926100@aegee-eindhoven.nl
SUMMARY:Tosti Lunch
DESCRIPTION:
URL:https://aegee-eindhoven.nl/nl/activity/tosti-lunch-144/
LOCATION:Common Room\, MetaForum 0.090\, Eindhoven\, North Brabant\, Netherlands
CATEGORIES:Thursday Lunches
ORGANIZER;CN="Board":MAILTO:board@aegee-eindhoven.nl
END:VEVENT
BEGIN:VEVENT
DTSTART;TZID=Europe/Amsterdam:20260318T180000
DTEND;TZID=Europe/Amsterdam:20260318T220000
DTSTAMP:20260423T030120
CREATED:20260303T100110Z
LAST-MODIFIED:20260324T172102Z
UID:9864-1773856800-1773871200@aegee-eindhoven.nl
SUMMARY:Casino Night
DESCRIPTION:“All in on red” – the LAC\, 2026 \n✨♥️ Casino Night ♠️✨\nAEGEE-Eindhoven invites you to an evening filled with laughter\, excitement and chance 🎲 Come join us for a chill Casino Night with 🃏poker\, roulette⬛🟥\, and more! Drinks and snacks will be provided 😉
URL:https://aegee-eindhoven.nl/nl/activity/casino-night/
LOCATION:Common Room\, MetaForum 0.090\, Eindhoven\, North Brabant\, Netherlands
ORGANIZER;CN="Local Activities Committee":MAILTO:localactivities@aegee-eindhoven.nl
END:VEVENT
BEGIN:VEVENT
DTSTART;TZID=Europe/Amsterdam:20260312T123000
DTEND;TZID=Europe/Amsterdam:20260312T131500
DTSTAMP:20260423T030120
CREATED:20260217T132119Z
LAST-MODIFIED:20260217T132119Z
UID:9821-1773318600-1773321300@aegee-eindhoven.nl
SUMMARY:Tosti Lunch
DESCRIPTION:
URL:https://aegee-eindhoven.nl/nl/activity/tosti-lunch-143/
LOCATION:Common Room\, MetaForum 0.090\, Eindhoven\, North Brabant\, Netherlands
CATEGORIES:Thursday Lunches
ORGANIZER;CN="Board":MAILTO:board@aegee-eindhoven.nl
END:VEVENT
BEGIN:VEVENT
DTSTART;TZID=Europe/Amsterdam:20260311T180000
DTEND;TZID=Europe/Amsterdam:20260311T220000
DTSTAMP:20260423T030120
CREATED:20260306T112541Z
LAST-MODIFIED:20260324T172052Z
UID:9887-1773252000-1773266400@aegee-eindhoven.nl
SUMMARY:Pierogi Workshop
DESCRIPTION:Would you like to participate in making your own Pierogies?\nDo you enjoy cooking and want to learn a new recipe?\nOr maybe just want to eat and enjoy a good time?\nIf yes\, join the event! \nPierogi is classic polish dish. It is very simple to make and traditionally made in a group. \nChoose Your Flavor:\nWe’ve got 5 vegetarian fillings (with vegan options):\n🌿 Spinach\n🧀 Cottage Cheese\n🥔 Cottage Cheese & Potato\n🍓 Strawberry\n🍄 Cabbage & Mushrooms \nLimited places for the workshop! But you can join later and have dinner with us.
URL:https://aegee-eindhoven.nl/nl/activity/pierogi-workshop-2/
LOCATION:Common Room\, MetaForum 0.090\, Eindhoven\, North Brabant\, Netherlands
CATEGORIES:Workshops
ORGANIZER;CN="Local Activities Committee":MAILTO:localactivities@aegee-eindhoven.nl
END:VEVENT
BEGIN:VEVENT
DTSTART;TZID=Europe/Amsterdam:20260306T210000
DTEND;TZID=Europe/Amsterdam:20260307T030000
DTSTAMP:20260423T030120
CREATED:20260304T165309Z
LAST-MODIFIED:20260306T123440Z
UID:9877-1772830800-1772852400@aegee-eindhoven.nl
SUMMARY:Nedertop Party: Happily Ever After
DESCRIPTION:Will you grace the dance floor as a true Disney Princess?👑 Conquer the Seven Seas of Beer to lose good sight of your hand?🏴‍☠️ Be ✨shiny✨ during it all? Then join the AEGEE-Enschede hosted Happily Ever After Nedertop Party!🎇 \nShow yourself dressed to impressed together with your Local:\nEindhoven: The Lion King \n 
URL:https://aegee-eindhoven.nl/nl/activity/nedertop-party-happily-ever-after/
LOCATION:Sociëteit Asterion\, Oude Markt 24\, Enschede\, Overijssel\, 7511 GB\, Netherlands
CATEGORIES:Nedertop
ORGANIZER;CN="AEGEE-Enschede":MAILTO:board@aegee-enschede.nl
END:VEVENT
BEGIN:VEVENT
DTSTART;TZID=Europe/Amsterdam:20260305T123000
DTEND;TZID=Europe/Amsterdam:20260305T131500
DTSTAMP:20260423T030120
CREATED:20260217T132035Z
LAST-MODIFIED:20260217T132035Z
UID:9819-1772713800-1772716500@aegee-eindhoven.nl
SUMMARY:Tosti Lunch
DESCRIPTION:
URL:https://aegee-eindhoven.nl/nl/activity/tosti-lunch-142/
LOCATION:Common Room\, MetaForum 0.090\, Eindhoven\, North Brabant\, Netherlands
CATEGORIES:Thursday Lunches
ORGANIZER;CN="Board":MAILTO:board@aegee-eindhoven.nl
END:VEVENT
BEGIN:VEVENT
DTSTART;TZID=Europe/Amsterdam:20260304T180000
DTEND;TZID=Europe/Amsterdam:20260304T220000
DTSTAMP:20260423T030120
CREATED:20260120T160308Z
LAST-MODIFIED:20260324T172033Z
UID:9691-1772647200-1772661600@aegee-eindhoven.nl
SUMMARY:Random Presentation Night
DESCRIPTION:Do you have a topic you’re passionate about? A weird\, fun fact you love sharing? Or just want to step up and practice public speaking? Then this event is perfect for you 🥳 \n📜 Any topic works: science\, history\, conspiracy theories\, or your favorite hobby! \n⏳ Speaking time is flexible\, depending on the number of sign-ups \n🍹This activity will take place in the CR (not Meteor)\, so you’ll be able to listen while enjoying a nice drink! \nP.S. Not keen on speaking😶‍🌫️? No worries! We hope you can still come hang out\, listen\, and enjoy the show! 🍿🍹
URL:https://aegee-eindhoven.nl/nl/activity/random-presentation-night-2/
LOCATION:Common Room\, MetaForum 0.090\, Eindhoven\, North Brabant\, Netherlands
END:VEVENT
BEGIN:VEVENT
DTSTART;TZID=Europe/Amsterdam:20260225T170000
DTEND;TZID=Europe/Amsterdam:20260301T110000
DTSTAMP:20260423T030120
CREATED:20251117T232232Z
LAST-MODIFIED:20260217T131931Z
UID:9414-1772038800-1772362800@aegee-eindhoven.nl
SUMMARY:European Planning Meeting 2026
DESCRIPTION:From 25 February to 1 March\, join us in the small but mighty student capital\, where winter means snow…maybe. Tartu is a cozy city with a taste of youth\, a place where history meets the flow of the Mother river. This year\, we dive into the theme “Bridging Youth to Employment” – turning ideas into action\, empowering young people to shape meaningful career paths. Tartu is waiting for you so come learn\, connect\, and leave inspired! \nGet ready for an energising day built around the theme “Bridging Youth to Employment”. Dive into inspiring panels\, interactive workshops\, and practical sessions that explore how young people can gain the skills\, networks\, and opportunities to thrive in today’s job market. Choose the sessions that spark your curiosity\, and enjoy exciting theme-related social activities woven throughout the day to keep the momentum going! \nDrafting the Action Agenda Participate in shaping AEGEE’s future actions! Join the Action Agenda drafting sessions where we will discuss which actions we as AEGEEans want to take for the next year of our three Focus Areas: Building strong communities\, Future-ready youth\, Self-aware and resilient youth \nThis will be the first Action Agenda for the new Strategic Plan\, so it will be a great opportunity to begin our work on the new Focus Areas! Not an expert? No worries! We will facilitate knowledge-sharing\, interactive discussions and sessions\, and provide ample opportunities for you to contribute your ideas. So get ready to inspire others and get inspired yourself to bring back some actions to your Local and your local communities. \nAdditionally\, we will discuss how AEGEE can reach its vision and mission more effectively\, and how we\, as an organisation\, can grow from within.
URL:https://aegee-eindhoven.nl/nl/activity/european-planning-meeting-2026/
CATEGORIES:Statutory
ORGANIZER;CN="AEGEE-Tartu":MAILTO:info@aegee-tartu.ee
END:VEVENT
BEGIN:VEVENT
DTSTART;VALUE=DATE:20260216
DTEND;VALUE=DATE:20260223
DTSTAMP:20260423T030120
CREATED:20251202T200000Z
LAST-MODIFIED:20260212T110515Z
UID:9485-1771200000-1771804799@aegee-eindhoven.nl
SUMMARY:Vilnius & Riga Exchange
DESCRIPTION:Baltic Adventure!\nWe are exploring the Baltics again! We will be visiting Vilnius and Riga as our Q3 exchange! Come dive into these beautiful historic cities with us\, tasting culture and tradition as well as an unforgettable trip with your fellow members.\nWe will be staying in apartments to guarantee a comfortable trip. The programme and activities will be organised by us\, all for a price of €110! This includes a bus ticket from Vilnius to Riga and 2 meals.\nAlthough this doesnt include plane tickets and the rest of the meals\, plane tickets are ~€50 one way and these are relatively cheap places. \n 
URL:https://aegee-eindhoven.nl/nl/activity/q3-exchange-vilnius-riga/
CATEGORIES:Exchanges
ORGANIZER;CN="Exchanges Committee":MAILTO:exchanges@aegee-eindhoven.nl
END:VEVENT
BEGIN:VEVENT
DTSTART;TZID=Europe/Amsterdam:20260214T210000
DTEND;TZID=Europe/Amsterdam:20260214T233000
DTSTAMP:20260423T030120
CREATED:20260126T144318Z
LAST-MODIFIED:20260127T124818Z
UID:9750-1771102800-1771111800@aegee-eindhoven.nl
SUMMARY:Carnaval with AEGEE-Budapest
DESCRIPTION:
URL:https://aegee-eindhoven.nl/nl/activity/carnaval-with-aegee-budapest/
CATEGORIES:Home Exchanges
END:VEVENT
BEGIN:VEVENT
DTSTART;TZID=Europe/Amsterdam:20260214T173000
DTEND;TZID=Europe/Amsterdam:20260214T210000
DTSTAMP:20260423T030120
CREATED:20260120T161200Z
LAST-MODIFIED:20260217T131542Z
UID:9706-1771090200-1771102800@aegee-eindhoven.nl
SUMMARY:Bingo with AEGEE-Budapest
DESCRIPTION:
URL:https://aegee-eindhoven.nl/nl/activity/bingo-with-a-budapest/
CATEGORIES:Home Exchanges
END:VEVENT
BEGIN:VEVENT
DTSTART;TZID=Europe/Amsterdam:20260214T133000
DTEND;TZID=Europe/Amsterdam:20260214T173000
DTSTAMP:20260423T030120
CREATED:20260120T160945Z
LAST-MODIFIED:20260217T131533Z
UID:9699-1771075800-1771090200@aegee-eindhoven.nl
SUMMARY:Eindhoven City Game with AEGEE-Budapest
DESCRIPTION:
URL:https://aegee-eindhoven.nl/nl/activity/eindhoven-city-game-with-budapest/
CATEGORIES:Home Exchanges
END:VEVENT
BEGIN:VEVENT
DTSTART;TZID=Europe/Amsterdam:20260214T123000
DTEND;TZID=Europe/Amsterdam:20260214T133000
DTSTAMP:20260423T030120
CREATED:20260126T144446Z
LAST-MODIFIED:20260212T122322Z
UID:9753-1771072200-1771075800@aegee-eindhoven.nl
SUMMARY:Tosti Lunch with AEGEE-Budapest
DESCRIPTION:No need to sign up\, just come by!
URL:https://aegee-eindhoven.nl/nl/activity/tosti-lunch-with-aegee-budapest/
LOCATION:Common Room\, MetaForum 0.090\, Eindhoven\, North Brabant\, Netherlands
CATEGORIES:Home Exchanges
END:VEVENT
BEGIN:VEVENT
DTSTART;TZID=Europe/Amsterdam:20260213T170000
DTEND;TZID=Europe/Amsterdam:20260213T220000
DTSTAMP:20260423T030120
CREATED:20260126T120649Z
LAST-MODIFIED:20260217T131525Z
UID:9742-1771002000-1771020000@aegee-eindhoven.nl
SUMMARY:European Night with AEGEE-Budapest
DESCRIPTION:
URL:https://aegee-eindhoven.nl/nl/activity/eu-night-with-budapest/
LOCATION:Common Room\, MetaForum 0.090\, Eindhoven\, North Brabant\, Netherlands
CATEGORIES:Home Exchanges
END:VEVENT
BEGIN:VEVENT
DTSTART;TZID=Europe/Amsterdam:20260212T173000
DTEND;TZID=Europe/Amsterdam:20260212T233000
DTSTAMP:20260423T030120
CREATED:20260120T160657Z
LAST-MODIFIED:20260217T131514Z
UID:9693-1770917400-1770939000@aegee-eindhoven.nl
SUMMARY:Pubcrawl with AEGEE-Budapest
DESCRIPTION:
URL:https://aegee-eindhoven.nl/nl/activity/pubcrawl-with-a-budapest/
CATEGORIES:Home Exchanges
END:VEVENT
BEGIN:VEVENT
DTSTART;TZID=Europe/Amsterdam:20260212T140000
DTEND;TZID=Europe/Amsterdam:20260212T163000
DTSTAMP:20260423T030120
CREATED:20260126T120917Z
LAST-MODIFIED:20260127T124840Z
UID:9744-1770904800-1770913800@aegee-eindhoven.nl
SUMMARY:Dutch Relationship Workshop with AEGEE-Budapest
DESCRIPTION:In this workshop\, we’ll be taking a deep dive into Dutch dating culture. No need to sign up\, just come by! \n 
URL:https://aegee-eindhoven.nl/nl/activity/dutch-relationship-workshop-with-budapest/
LOCATION:Common Room\, MetaForum 0.090\, Eindhoven\, North Brabant\, Netherlands
CATEGORIES:Home Exchanges,Workshops
END:VEVENT
BEGIN:VEVENT
DTSTART;TZID=Europe/Amsterdam:20260212T123000
DTEND;TZID=Europe/Amsterdam:20260212T131500
DTSTAMP:20260423T030120
CREATED:20260125T220003Z
LAST-MODIFIED:20260125T220003Z
UID:9737-1770899400-1770902100@aegee-eindhoven.nl
SUMMARY:Tosti Lunch
DESCRIPTION:
URL:https://aegee-eindhoven.nl/nl/activity/tosti-lunch-140/
LOCATION:Common Room\, MetaForum 0.090\, Eindhoven\, North Brabant\, Netherlands
CATEGORIES:Thursday Lunches
ORGANIZER;CN="Board":MAILTO:board@aegee-eindhoven.nl
END:VEVENT
BEGIN:VEVENT
DTSTART;TZID=Europe/Amsterdam:20260211T180000
DTEND;TZID=Europe/Amsterdam:20260211T220000
DTSTAMP:20260423T030120
CREATED:20260120T154927Z
LAST-MODIFIED:20260212T141600Z
UID:9674-1770832800-1770847200@aegee-eindhoven.nl
SUMMARY:Mom's Spaghet
DESCRIPTION:We will rap Eminem’s Lose Yourself\,\nEat delicious spaghetti\,\nBuild bridges of spaghetti; the best bridge wins a prize\nLimited spots for the competition.
URL:https://aegee-eindhoven.nl/nl/activity/moms-spaghet/
LOCATION:Common Room\, MetaForum 0.090\, Eindhoven\, North Brabant\, Netherlands
ORGANIZER;CN="Local Activities Committee":MAILTO:localactivities@aegee-eindhoven.nl
END:VEVENT
BEGIN:VEVENT
DTSTART;TZID=Europe/Amsterdam:20260209T180000
DTEND;TZID=Europe/Amsterdam:20260209T213000
DTSTAMP:20260423T030120
CREATED:20260113T134324Z
LAST-MODIFIED:20260210T144644Z
UID:9642-1770660000-1770672600@aegee-eindhoven.nl
SUMMARY:Statutes Input Session
DESCRIPTION:The Statutes and HR working group needs YOUR input! Whether you are a seasoned AEGEEan or have only just joined the community\, we want your thoughts on which rules should underly how we are functioning. \nDuring this session\, we want to hear your thoughts on our work and talk with you about:\n– our mission;\n– who can be members and our types of membership;\n– our Local Agorae; and\n– the structure of the board. \nAnd also other thoughts you have. Even if you don’t have an opinion on all of these topics\, we still would love to hear from you!
URL:https://aegee-eindhoven.nl/nl/activity/statutes-input-session/
LOCATION:Common Room\, MetaForum 0.090\, Eindhoven\, North Brabant\, Netherlands
ORGANIZER;CN="Statutes & HR Working Group":MAILTO:statuteshr@aegee-eindhoven.nl
END:VEVENT
BEGIN:VEVENT
DTSTART;TZID=Europe/Amsterdam:20260206T180000
DTEND;TZID=Europe/Amsterdam:20260206T220000
DTSTAMP:20260423T030120
CREATED:20260107T131235Z
LAST-MODIFIED:20260205T232104Z
UID:9627-1770400800-1770415200@aegee-eindhoven.nl
SUMMARY:Mojito Night (Anniversary)
DESCRIPTION:One year ago\, a legend was born in AEGEE-Eindhoven… The incredible Mojito Night! Now\, to celebrate its birthday we’ll be throwing an even bigger party to be remembered. \nSign ups are closed.
URL:https://aegee-eindhoven.nl/nl/activity/mojito-night-1-year-anniversary/
LOCATION:Common Room\, MetaForum 0.090\, Eindhoven\, North Brabant\, Netherlands
ORGANIZER;CN="Local Activities Committee":MAILTO:localactivities@aegee-eindhoven.nl
END:VEVENT
END:VCALENDAR